BEGIN:VCALENDAR
PRODID:NingEventWidget-v1
VERSION:2.0
METHOD:PUBLISH
BEGIN:VEVENT
UID:3186561:Event:51688
DTSTAMP:20210313T174006Z
SUMMARY:Lakewood, CO, Tea Party Monthly Meeting
DESCRIPTION:Lakewood Tea Party's September 16, 2014, meeting topics in
 clude \"Election Integrity, Election Watch Colorado, the EPA and Fed
 eral Land Grabbing through water rights, and Meet Your Local Candidate
 s\"   Homebaked goodies!  FREE All are welcome! Bring friends and ne
 ighbors!\n\nFor details and RSVP use the Facebook announcement:\nhttps
 ://www.facebook.com/events/1456097577988647/\n\nLakewood, Colorado, Te
 a Party\nTuesday, September 16 at 7:00 pm - 9:00 pm\nCentral Bible Ch
 urch\n1490 South Pierce Street\n(NE corner of Pierce and Florida)\nLak
 ewood, Colorado\n\n\n\nRecent news item of interest:\nhttp://watchdogw
 ire.com/colorado/2014/08/27/co-secret-epa-water-maps-released/\n\n\n\n
 For more information visit http://arapahoeteaparty.ning.com/events/lak
 ewood-co-tea-party-monthly-meeting-2
DTSTART:20140917T010000Z
DTEND:20140917T030000Z
CATEGORIES:"monthly meeting"
LOCATION:Central Bible Church
WEBSITE:https://www.facebook.com/events/1456097577988647/
URL:https://www.facebook.com/events/1456097577988647/
CONTACT:
ORGANIZER:Lakewood Tea Party [posted by W. Branstetter]
ATTACH;FMTTYPE="image/jpeg":
ATTENDEE;ROLE=REQ-PARTICIPANT;PARTSTAT=TENTATIVE;RSVP=TRUE;CN="W. Bran
 stetter":http://arapahoeteaparty.ning.com/profile/WBranstetter
END:VEVENT
END:VCALENDAR
