BEGIN:VCALENDAR
PRODID:NingEventWidget-v1
VERSION:2.0
METHOD:PUBLISH
BEGIN:VEVENT
UID:3186561:Event:58710
DTSTAMP:20210313T174314Z
SUMMARY:Lakewood, CO, Tea Party Monthly Meeting
DESCRIPTION:Lakewood Tea Party meets at 1490 South Pierce Street (NE C
 orner) at Central Bible Church Tuesday May 17, 2016 at 7:00 p.m.-9:00 
 p.m.\n\nCALLING ALL PATRIOTS AND LIBERTY LOVERS!!! It's 3rd Tuesday of
  the month AGAIN. This month we are revisiting Jeffco School Board and
  education in Jefferson County.Joe Webb is doing a tutorial about Cert
 ificates of Participation. What does this have to do with education? C
 ome and find out.George Meyer has been attending School Board meetings
  and has a report.Donna Jack has a website www.jeffcoeducationtruth.c
 om and will be our featured speaker. There are Truths that you, as a 
 voter, taxpayer and concerned citizen need to know.Our activists are b
 usy. Come and lend a hand and bring friends who need convincing of the
  \"rightness\" of our conservative values.\n\nhttps://www.facebook.com
 /events/1795015447451463/\n\nThis is grassroots at its finest. Ask som
 eone to come with you so we can increase our numbers and become more e
 ffective in our efforts.\n\nFacebook page at:\n\nhttps://www.facebook.
 com/lakewoodteaparty\n\n\n\n\nFor more information visit http://arapah
 oeteaparty.ning.com/events/lakewood-co-tea-party-monthly-meeting-13
DTSTART:20160720T010000Z
DTEND:20160720T030000Z
CATEGORIES:"monthly meeting"
LOCATION:Central Bible Church
WEBSITE:https://www.facebook.com/lakewoodteaparty
URL:https://www.facebook.com/lakewoodteaparty
CONTACT:
ORGANIZER:Linda Mackety [posted by W. Branstetter]
ATTACH;FMTTYPE="image/jpeg":
END:VEVENT
END:VCALENDAR
