BEGIN:VCALENDAR
PRODID:NingEventWidget-v1
VERSION:2.0
METHOD:PUBLISH
BEGIN:VEVENT
UID:3186561:Event:58768
DTSTAMP:20210313T174252Z
SUMMARY:Lakewood, CO, Tea Party Monthly Meeting
DESCRIPTION:Lakewood Tea Party meets at 1490 South Pierce Street (NE C
 orner) at Central Bible Church Tuesday May 17, 2016 at 7:00 p.m.-9:00 
 p.m.\n\nCALLING ALL PATRIOTS AND LIBERTY LOVERS!!!  Speakers may be La
 ura Carno and Ed Hanks talking about their books.  Bring your friends,
  neighbors and relatives. We can and must be influential among our fel
 low citizens. It is not enough to merely vote.   https://www.facebook.
 com/events/1698419957079365/\n\nThis is grassroots at its finest. Ask 
 someone to come with you so we can increase our numbers and become mor
 e effective in our efforts.\n\nFacebook page at:\n\nhttps://www.facebo
 ok.com/lakewoodteaparty\n\n\n\n\nFor more information visit http://ara
 pahoeteaparty.ning.com/events/lakewood-co-tea-party-monthly-meeting-12
DTSTART:20160518T010000Z
DTEND:20160518T030000Z
CATEGORIES:"monthly meeting"
LOCATION:Central Bible Church
WEBSITE:https://www.facebook.com/lakewoodteaparty
URL:https://www.facebook.com/lakewoodteaparty
CONTACT:
ORGANIZER:Linda Mackety [posted by W. Branstetter]
ATTACH;FMTTYPE="image/jpeg":
END:VEVENT
END:VCALENDAR
