BEGIN:VCALENDAR
PRODID:NingEventWidget-v1
VERSION:2.0
METHOD:PUBLISH
BEGIN:VEVENT
UID:3186561:Event:56666
DTSTAMP:20210313T171957Z
SUMMARY:Lakewood, CO, Tea Party Monthly Meeting
DESCRIPTION:Lakewood Tea Party meets at 1490 South Pierce Street (NE C
 orner) at Central Bible Church Tuesday March 15, 2016 at 7:00 p.m.-9:0
 0 p.m.\n\nCALLING ALL PATRIOTS AND LIBERTY LOVERS!!!\n Talking energy.
   Time to get informed and involved.\n\nThis is grassroots at its fin
 est. Ask someone to come with you so we can increase our numbers and b
 ecome more effective in our efforts.\n\nFacebook page at:\n\nhttps://w
 ww.facebook.com/lakewoodteaparty\n\n\n\n\nFor more information visit h
 ttp://arapahoeteaparty.ning.com/events/lakewood-co-tea-party-monthly-m
 eeting-11
DTSTART:20160316T010000Z
DTEND:20160316T030000Z
CATEGORIES:"monthly meeting"
LOCATION:Central Bible Church
WEBSITE:https://www.facebook.com/lakewoodteaparty
URL:https://www.facebook.com/lakewoodteaparty
CONTACT:
ORGANIZER:Linda Mackety [posted by W. Branstetter]
ATTACH;FMTTYPE="image/jpeg":
END:VEVENT
END:VCALENDAR
