BEGIN:VCALENDAR
PRODID:NingEventWidget-v1
VERSION:2.0
METHOD:PUBLISH
BEGIN:VEVENT
UID:3186561:Event:55508
DTSTAMP:20210313T172034Z
SUMMARY:Lakewood, CO, Tea Party Monthly Meeting
DESCRIPTION:Lakewood Tea Party meets at 1490 South Pierce Street (NE C
 orner) at Central Bible Church Tuesday October 20, 2015 at 7:00 p.m.-9
 :00 p.m.\n\nCALLING ALL PATRIOTS AND LIBERTY LOVERS!!!Our October meet
 ing will focus on local elections for Jeffco School Board, Lakewood Ma
 yor and City Council. We are presenting as many of the candidates who 
 could come in this very busy campaign season. We will be able to quest
 ion them in depth and look forward to hearing each present their case 
 for why we should vote for and support them in their efforts.Please co
 me for this very important session for as James Madison so famously sa
 id, \"A well instructed people alone can be permanently free.\" Bring 
 your friends, neighbors and relatives. We can and must be influential 
 among our fellow citizens. It is not enough to merely vote.https://www
 .facebook.com/events/897504213666344/\n\nThis is grassroots at its fin
 est. Ask someone to come with you so we can increase our numbers and b
 ecome more effective in our efforts.\n\nFacebook page at:\n\nhttps://w
 ww.facebook.com/lakewoodteaparty\n\n\n\n\nFor more information visit h
 ttp://arapahoeteaparty.ning.com/events/lakewood-co-tea-party-monthly-m
 eeting-10
DTSTART:20151021T010000Z
DTEND:20151021T030000Z
CATEGORIES:"monthly meeting"
LOCATION:Central Bible Church
WEBSITE:https://www.facebook.com/lakewoodteaparty
URL:https://www.facebook.com/lakewoodteaparty
CONTACT:
ORGANIZER:Linda Mackety [posted by W. Branstetter]
ATTACH;FMTTYPE="image/jpeg":
END:VEVENT
END:VCALENDAR
