BEGIN:VCALENDAR
PRODID:NingEventWidget-v1
VERSION:2.0
METHOD:PUBLISH
BEGIN:VEVENT
UID:3186561:Event:50300
DTSTAMP:20210313T181351Z
SUMMARY:Lakewood, CO, Tea Party Monthly Meeting
DESCRIPTION:Lakewood (Colorado) Tea Party will meet at 7:00 p.m., Tues
 day, June 17, 2014, at Central Bible Church in Lakewood.\n\nWhen:  7:
 00 p.m., Tuesday, June 17, 2014\n\nLocation:\nCentral Bible Church\n14
 90 South Pierce Street\nLakewood, Colorado \n\nSpeakers:\nSeries cont
 inues on Agenda 21 with John Whiteside from Evergreen Tea Party talkin
 g about Western Land Law \n\nDon Rosier, Jeffco County Commissioner t
 o speak on county land issues and other questions\n\nFacebook event an
 nouncement at:\n\nhttps://www.facebook.com/events/229646927245531/\n\n
 The topic of Agenda 21 is one to be informed about now.\n\n\n\nFor mor
 e information visit http://arapahoeteaparty.ning.com/events/lakewood-c
 o-tea-party-monthly-meeting-1
DTSTART:20140618T010000Z
DTEND:20140618T030000Z
CATEGORIES:"monthly meeting"
LOCATION:Central Bible Church
WEBSITE:https://www.facebook.com/events/229646927245531/
URL:https://www.facebook.com/events/229646927245531/
CONTACT:
ORGANIZER:[posted by W. Branstetter]
ATTACH;FMTTYPE="image/jpeg":
ATTENDEE;ROLE=REQ-PARTICIPANT;PARTSTAT=TENTATIVE;RSVP=TRUE;CN="W. Bran
 stetter":http://arapahoeteaparty.ning.com/profile/WBranstetter
END:VEVENT
END:VCALENDAR
