BEGIN:VCALENDAR
PRODID:NingEventWidget-v1
VERSION:2.0
METHOD:PUBLISH
BEGIN:VEVENT
UID:3186561:Event:4155
DTSTAMP:20210313T183344Z
SUMMARY:Kick Obamacare out of Colorado
DESCRIPTION:Jon Caldara and the Independence Institute are hosting a \
 "Kick Obamacare out of Colorado\" rally at noon on the West steps of t
 he State Capitol building. More details to follow!\n\nFor more informa
 tion visit http://arapahoeteaparty.ning.com/events/kick-obamacare-out-
 of-colorado
DTSTART:20100119T190000Z
DTEND:20100119T200000Z
CATEGORIES:rally
LOCATION:West Steps of the Capital
WEBSITE:
URL:
CONTACT:
ORGANIZER;CN="Chairman's Committee":http://arapahoeteaparty.ning.com/p
 rofile/chairmanscommittee
ATTACH;FMTTYPE="image/jpeg":
ATTENDEE;ROLE=REQ-PARTICIPANT;PARTSTAT=ACCEPTED;RSVP=TRUE;CN="Jack Ott
 ":http://arapahoeteaparty.ning.com/profile/JackOtt
ATTENDEE;ROLE=REQ-PARTICIPANT;PARTSTAT=ACCEPTED;RSVP=TRUE;CN="Chairman
 's Committee":http://arapahoeteaparty.ning.com/profile/chairmanscommit
 tee
ATTENDEE;ROLE=REQ-PARTICIPANT;PARTSTAT=TENTATIVE;RSVP=TRUE;CN="W. Bran
 stetter":http://arapahoeteaparty.ning.com/profile/WBranstetter
END:VEVENT
END:VCALENDAR
