BEGIN:VCALENDAR
PRODID:NingEventWidget-v1
VERSION:2.0
METHOD:PUBLISH
BEGIN:VEVENT
UID:3186561:Event:44655
DTSTAMP:20210313T193432Z
SUMMARY:June Meeting for Arapahoe County Tea Party
DESCRIPTION:Next meeting will be June 11.  Please put the date on yo
 ur calendar and we will look forward to getting on track.  Please wat
 ch for announcements.\n \nIf you would be interested in helping with 
 a committee or two that might help make meetings and events run smooth
 er, would you please post a brief comment with this announcement.\n \
 n \nIf you are not connected via Facebook, please find the group \"Ar
 apahoe Tea Party\"\n \nhttps://www.facebook.com/groups/arapahoeteapar
 ty\n \n \nNext meeting:  Tuesday, June 11, 2013 -- 6:30 - 8:30 p.m.
 \nWhere: \nSouth Metro Fire Rescue Authority\n9195 East Mineral Ave\n
 Centennial, CO 80112\n \n Speakers invited include all of the people
  who have either announced or are considering running for governor.  
 So far:\n \nMatt Hess (Libertarian)\nScott Gessler (Republican)\nTom 
 Tancredo (Republican)\nGovernor Hickenlooper (Democrat)\nothers?\n \n
 District Attorney Brauchler has been invited.\n \n \n\n \n\nFor mor
 e information visit http://arapahoeteaparty.ning.com/events/june-meeti
 ng-for-arapahoe-county-tea-party
DTSTART:20130612T003000Z
DTEND:20130612T023000Z
CATEGORIES:"monthly meeting"
LOCATION:South Metro Fire Rescue Authority; Mineral Headquarters, Boar
 d Room
WEBSITE:
URL:
CONTACT:
ORGANIZER:Randy Corporon [posted by W. Branstetter]
ATTACH;FMTTYPE="image/jpeg":
ATTENDEE;ROLE=REQ-PARTICIPANT;PARTSTAT=ACCEPTED;RSVP=TRUE;CN="Patrick 
 Fitzgerald":http://arapahoeteaparty.ning.com/profile/PatrickFitzgerald
ATTENDEE;ROLE=REQ-PARTICIPANT;PARTSTAT=ACCEPTED;RSVP=TRUE;CN="Rachel P
 uckett":http://arapahoeteaparty.ning.com/profile/RachelPuckett
ATTENDEE;ROLE=REQ-PARTICIPANT;PARTSTAT=ACCEPTED;RSVP=TRUE;CN="W. Brans
 tetter":http://arapahoeteaparty.ning.com/profile/WBranstetter
ATTENDEE;ROLE=REQ-PARTICIPANT;PARTSTAT=TENTATIVE;RSVP=TRUE;CN="Toni Po
 tterf":http://arapahoeteaparty.ning.com/profile/ToniPotterf
ATTENDEE;ROLE=REQ-PARTICIPANT;PARTSTAT=TENTATIVE;RSVP=TRUE;CN="Bill Ho
 uston":http://arapahoeteaparty.ning.com/profile/BillHouston
END:VEVENT
END:VCALENDAR
