BEGIN:VCALENDAR
PRODID:NingEventWidget-v1
VERSION:2.0
METHOD:PUBLISH
BEGIN:VEVENT
UID:3186561:Event:50047
DTSTAMP:20210313T175823Z
SUMMARY:June Meeting: Arapahoe Tea Party--Topic \"How to Get Involved\
 " and Featured is Bob Beauprez
DESCRIPTION:Join the Arapahoe Tea Party and the Colorado Tea Party Pat
 riots for our June 10, 2014, meeting.\n\nMolly Vogt with Americans For
  Prosperity (AFP-Colorado)\nRebekah Brown with Heritage Action\nand mo
 re\n\nBob Beauprez is the featured speaker.\n\nBring your questions, y
 our perspective and your comments. Our meetings have been standing roo
 m only, so come early!\n \nTuesday, June 10, 2014 6:30-8:30 pm South 
 Metro Fire Rescue 9195 E. Mineral Ave. Centennial, CO 80112\n \nWatch
  for other announcements from Randy Corporon regarding speakers or top
 ics.  Listen to KLZ 560 radio.\n\nEvent announcement on Facebook:\nht
 tps://www.facebook.com/events/240187016179418/\n \n \nIf you would b
 e interested in helping with a committee or two that might help make m
 eetings and events run smoother, would you please post a brief comment
  with this announcement.\n \nIf you are not connected via Facebook, p
 lease find the group \"Arapahoe Tea Party\" \nhttps://www.facebook.co
 m/groups/arapahoeteaparty\n \n*************************\n\nNOTE:  Pl
 ease do not contact the building management for information about this
  event.  The group sponsoring the event has contact information at th
 e link provided above.\n\n\n\nFor more information visit http://arapah
 oeteaparty.ning.com/events/june-meeting-arapahoe-tea-party-topic-how-t
 o-get-involved
DTSTART:20140611T003000Z
DTEND:20140611T023000Z
CATEGORIES:"monthly meeting"
LOCATION:South Metro Fire Rescue Authority; Mineral Headquarters, Boar
 d Room
WEBSITE:https://maps.google.com/maps?oe=utf-8&client=firefox-a&ie=UTF-
 8&q=south+metro+fire+rescue+authority+mineral+headquarters&fb=1&gl=us&
 hq=south+metro+fire+rescue+authority+mineral+headquarters&cid=0,0,9189
 900575761474566&ei=wsvZUfvrHoWQyQHR5oGQCg&ved=0CIcBEPwSMAA
URL:https://maps.google.com/maps?oe=utf-8&client=firefox-a&ie=UTF-8&q=
 south+metro+fire+rescue+authority+mineral+headquarters&fb=1&gl=us&hq=s
 outh+metro+fire+rescue+authority+mineral+headquarters&cid=0,0,91899005
 75761474566&ei=wsvZUfvrHoWQyQHR5oGQCg&ved=0CIcBEPwSMAA
CONTACT:303-885-2550
ORGANIZER:Regina Thomson and Randy Corporon [posted by W. Branstetter]
ATTACH;FMTTYPE="image/jpeg":
ATTENDEE;ROLE=REQ-PARTICIPANT;PARTSTAT=ACCEPTED;RSVP=TRUE;CN="W. Brans
 tetter":http://arapahoeteaparty.ning.com/profile/WBranstetter
END:VEVENT
END:VCALENDAR
