BEGIN:VCALENDAR
PRODID:NingEventWidget-v1
VERSION:2.0
METHOD:PUBLISH
BEGIN:VEVENT
UID:3186561:Event:54773
DTSTAMP:20210313T171357Z
SUMMARY:June 2015 Meeting: Arapahoe Tea Party with Bob Berry on \"Bitc
 oin\"
DESCRIPTION:Randy B. Corporon announced on KLZ 560 radio this event. Â
  Listen there for other news of this group and others.\n\nJoin the Ara
 pahoe Tea Party and the Colorado Tea Party Patriots for our June 9, 20
 15, meeting. Â Come early for a good seat and make new acquaintances. 
 Â Bob Berry will be talking about \"Bitcoin.\" Â Meeting topics are al
 ways informative. Â Listen to KLZ 560 radio, especially 5-8 Â a.m. for
  updates.\n\nAlways more to talk about so come for information.\n\n\n*
 **********\n\n\n\n*************\n\nAs with all of the meetings, come e
 arly for a good seat. Â There may be additions to the program.\n\nOur 
 meetings have been standing room only, so come early!\nÂ \nTuesday, Ju
 ne 9, 2015 6:30-8:30 pm South Metro Fire Rescue 9195 E. Mineral Ave. C
 entennial, CO 80112\nÂ \nWatch for other announcements from Randy Corp
 oron regarding speakers or topics. Â Listen to KLZ 560 radio, especial
 ly Randy's show 5-8 a.m. MT weekdays.\n\nEvent announcement on Faceboo
 k:\n\nÂ \nÂ \nIf you would be interested in helping with a committee o
 r two that might help make meetings and events run smoother, would you
  please post a brief comment with this announcement.\nÂ \nIf you are n
 ot connected via Facebook, please find the group \"Arapahoe Tea Party\
 "Â for news items and events:\nhttps://www.facebook.com/groups/arapaho
 eteaparty\nÂ \n*************************\n\nNOTE:Â  Please do not cont
 act the building management for information about this event.Â  The gr
 oup sponsoring the event has contact information at the link provided 
 above.\n\n************************\n\nReminder from April 2015 meeting
  of Darryl Glenn, candidate for U.S Senator, currently El Paso County 
 Commissioner\n\nhttp://www.electdarrylglenn.com/\n\nhttp://www.csindy.
 com/IndyBlog/archives/2015/01/15/darryl-glenn-will-run-against-sen-ben
 net\n\nhttp://gazette.com/glenn-early-announcement-for-u.s.-senate-run
 -shows-he-is-very-serious/article/1544655\n\n\n\nFor more information 
 visit http://arapahoeteaparty.ning.com/events/june-2015-meeting-arapah
 oe-tea-party
DTSTART:20150610T003000Z
DTEND:20150610T023000Z
CATEGORIES:"monthly meeting"
LOCATION:South Metro Fire Rescue Authority; Mineral Headquarters, Boar
 d Room
WEBSITE:https://maps.google.com/maps?oe=utf-8&client=firefox-a&ie=UTF-
 8&q=south+metro+fire+rescue+authority+mineral+headquarters&fb=1&gl=us&
 hq=south+metro+fire+rescue+authority+mineral+headquarters&cid=0,0,9189
 900575761474566&ei=wsvZUfvrHoWQyQHR5oGQCg&ved=0CIcBEPwSMAA
URL:https://maps.google.com/maps?oe=utf-8&client=firefox-a&ie=UTF-8&q=
 south+metro+fire+rescue+authority+mineral+headquarters&fb=1&gl=us&hq=s
 outh+metro+fire+rescue+authority+mineral+headquarters&cid=0,0,91899005
 75761474566&ei=wsvZUfvrHoWQyQHR5oGQCg&ved=0CIcBEPwSMAA
CONTACT:303-885-2550
ORGANIZER:Regina Thomson and Randy Corporon [posted by W. Branstetter]
ATTACH;FMTTYPE="image/jpeg":
ATTENDEE;ROLE=REQ-PARTICIPANT;PARTSTAT=ACCEPTED;RSVP=TRUE;CN="W. Brans
 tetter":http://arapahoeteaparty.ning.com/profile/WBranstetter
END:VEVENT
END:VCALENDAR
