BEGIN:VCALENDAR
PRODID:NingEventWidget-v1
VERSION:2.0
METHOD:PUBLISH
BEGIN:VEVENT
UID:3186561:Event:46526
DTSTAMP:20210313T181616Z
SUMMARY:July Meeting for Arapahoe Tea Party
DESCRIPTION:Next meeting will be July 9.  Please put the date on you
 r calendar and we will look forward to getting on track.  Please watc
 h for announcements.\n \nIf you would be interested in helping with a
  committee or two that might help make meetings and events run smoothe
 r, would you please post a brief comment with this announcement.\n \n
  \nIf you are not connected via Facebook, please find the group \"Ara
 pahoe Tea Party\"\n \nhttps://www.facebook.com/groups/arapahoeteapart
 y\n \n \nNext meeting:  Tuesday, July 9, 2013 -- 6:30 - 8:30 p.m.\n
 Where: \nSouth Metro Fire Rescue Authority\n9195 East Mineral Ave\nCe
 ntennial, CO 80112\n \n \nFacebook events page is at:  https://www.
 facebook.com/events/549494441759227/\n\nSpeakers:\n\nFormer Colorado s
 enator, Bruce Cairns\n \nPauline Olvera, vice-chair of Colorado Hispa
 nic Republicans and vice-chair Denver County GOP\n \nDerrick Wilburn,
  American Conservatives of Color\n \n\n \n\nFor more information vis
 it http://arapahoeteaparty.ning.com/events/july-meeting-for-arapahoe-c
 ounty-tea-party
DTSTART:20130710T003000Z
DTEND:20130710T023000Z
CATEGORIES:"monthly meeting"
LOCATION:South Metro Fire Rescue Authority; Mineral Headquarters, Boar
 d Room
WEBSITE:
URL:
CONTACT:
ORGANIZER:Randy Corporon [posted by W. Branstetter]
ATTACH;FMTTYPE="image/jpeg":
ATTENDEE;ROLE=REQ-PARTICIPANT;PARTSTAT=ACCEPTED;RSVP=TRUE;CN="Randy B 
 Corporon":http://arapahoeteaparty.ning.com/profile/RandyBCorporon
ATTENDEE;ROLE=REQ-PARTICIPANT;PARTSTAT=ACCEPTED;RSVP=TRUE;CN="John Hol
 tman":http://arapahoeteaparty.ning.com/profile/JohnHoltman
ATTENDEE;ROLE=REQ-PARTICIPANT;PARTSTAT=ACCEPTED;RSVP=TRUE;CN="james s 
 heasly":http://arapahoeteaparty.ning.com/profile/jamessheasly
ATTENDEE;ROLE=REQ-PARTICIPANT;PARTSTAT=ACCEPTED;RSVP=TRUE;CN="Larry St
 rohl":http://arapahoeteaparty.ning.com/profile/LarryStrohl
ATTENDEE;ROLE=REQ-PARTICIPANT;PARTSTAT=ACCEPTED;RSVP=TRUE;CN="W. Brans
 tetter":http://arapahoeteaparty.ning.com/profile/WBranstetter
END:VEVENT
END:VCALENDAR
