BEGIN:VCALENDAR
PRODID:NingEventWidget-v1
VERSION:2.0
METHOD:PUBLISH
BEGIN:VEVENT
UID:3186561:Event:51079
DTSTAMP:20210313T175120Z
SUMMARY:July Meeting: Arapahoe Tea Party--Topic \"Channeling George Je
 tson\" speaker Steve House
DESCRIPTION:Join the Arapahoe Tea Party and the Colorado Tea Party Pat
 riots for our July 8, 2014, meeting.\n\nSteve House, former candidate 
 for governor, will be \"Channeling George Jetson\" with insight to tec
 hnology changes that will affect the world of politics.\n\nAs with all
  of the meetings, come early for a good seat and expect that there wil
 l be additions to the program.\n\nOur meetings have been standing room
  only, so come early!\n \nTuesday, July 8, 2014 6:30-8:30 pm South Me
 tro Fire Rescue 9195 E. Mineral Ave. Centennial, CO 80112\n \nWatch f
 or other announcements from Randy Corporon regarding speakers or topic
 s.  Listen to KLZ 560 radio.\n\nEvent announcement on Facebook:\nhttp
 s://www.facebook.com/events/1445096122409288/\n \nADDITIONAL ANNOUNCE
 MENT:  Watch for announcements for the August meeting for a temporary
  change in the meeting location.  The meeting room will not be availa
 ble and we are looking for an alternate location for Tuesday, August 1
 2.  If you have ideas contact, Randy Corporon or Regina Thomson.\n \
 nIf you would be interested in helping with a committee or two that mi
 ght help make meetings and events run smoother, would you please post 
 a brief comment with this announcement.\n \nIf you are not connected 
 via Facebook, please find the group \"Arapahoe Tea Party\" \nhttps://
 www.facebook.com/groups/arapahoeteaparty\n \n************************
 *\n\nNOTE:  Please do not contact the building management for informa
 tion about this event.  The group sponsoring the event has contact in
 formation at the link provided above.\n\n\n\nFor more information visi
 t http://arapahoeteaparty.ning.com/events/july-meeting-arapahoe-tea-pa
 rty-topic-channeling-george-jetson-sp
DTSTART:20140709T003000Z
DTEND:20140709T023000Z
CATEGORIES:"monthly meeting"
LOCATION:South Metro Fire Rescue Authority; Mineral Headquarters, Boar
 d Room
WEBSITE:https://maps.google.com/maps?oe=utf-8&client=firefox-a&ie=UTF-
 8&q=south+metro+fire+rescue+authority+mineral+headquarters&fb=1&gl=us&
 hq=south+metro+fire+rescue+authority+mineral+headquarters&cid=0,0,9189
 900575761474566&ei=wsvZUfvrHoWQyQHR5oGQCg&ved=0CIcBEPwSMAA
URL:https://maps.google.com/maps?oe=utf-8&client=firefox-a&ie=UTF-8&q=
 south+metro+fire+rescue+authority+mineral+headquarters&fb=1&gl=us&hq=s
 outh+metro+fire+rescue+authority+mineral+headquarters&cid=0,0,91899005
 75761474566&ei=wsvZUfvrHoWQyQHR5oGQCg&ved=0CIcBEPwSMAA
CONTACT:303-885-2550
ORGANIZER:Regina Thomson and Randy Corporon [posted by W. Branstetter]
ATTACH;FMTTYPE="image/jpeg":
ATTENDEE;ROLE=REQ-PARTICIPANT;PARTSTAT=ACCEPTED;RSVP=TRUE;CN="Randy B 
 Corporon":http://arapahoeteaparty.ning.com/profile/RandyBCorporon
ATTENDEE;ROLE=REQ-PARTICIPANT;PARTSTAT=ACCEPTED;RSVP=TRUE;CN="W. Brans
 tetter":http://arapahoeteaparty.ning.com/profile/WBranstetter
END:VEVENT
END:VCALENDAR
