BEGIN:VCALENDAR
PRODID:NingEventWidget-v1
VERSION:2.0
METHOD:PUBLISH
BEGIN:VEVENT
UID:3186561:Event:54878
DTSTAMP:20210313T175235Z
SUMMARY:July 2015 Meeting: Arapahoe Tea Party [program to be announced
 ]
DESCRIPTION:For news of this event, listen to KLZ 560 radio.\n\nJoin t
 he Arapahoe Tea Party and the Colorado Tea Party Patriots for our July
  14, 2015, meeting.  [Note that the program remains to be announced.]
   Meeting topics are always informative.  Listen to KLZ 560 radio, e
 specially 5-8  a.m. for updates.\n\nAlways more to talk about so come
  for information.\n\n\n***********\n\n\n\n*************\n\nAs with all
  of the meetings, come early for a good seat.  There may be additions
  to the program.\n\nOur meetings have been standing room only, so come
  early!\n \nTuesday, July 14, 2015 6:30-8:30 pm South Metro Fire Resc
 ue 9195 E. Mineral Ave. Centennial, CO 80112\n \nWatch for other anno
 uncements from Randy Corporon regarding speakers or topics.  Listen t
 o KLZ 560 radio, especially Randy's show 5-8 a.m. MT weekdays.\n\nEven
 t announcement on Facebook:\n\n \n \nIf you would be interested in h
 elping with a committee or two that might help make meetings and event
 s run smoother, would you please post a brief comment with this announ
 cement.\n \nIf you are not connected via Facebook, please find the gr
 oup \"Arapahoe Tea Party\" for news items and events:\nhttps://www.fa
 cebook.com/groups/arapahoeteaparty\n \n*************************\n\nN
 OTE:  Please do not contact the building management for information a
 bout this event.  The group sponsoring the event has contact informat
 ion at the link provided above.\n\n************************\n\nReminde
 r from April 2015 meeting of Darryl Glenn, candidate for U.S Senator, 
 currently El Paso County Commissioner\n\nhttp://www.electdarrylglenn.c
 om/\n\nhttp://www.csindy.com/IndyBlog/archives/2015/01/15/darryl-glenn
 -will-run-against-sen-bennet\n\nhttp://gazette.com/glenn-early-announc
 ement-for-u.s.-senate-run-shows-he-is-very-serious/article/1544655\n\n
 \n\nFor more information visit http://arapahoeteaparty.ning.com/events
 /july-2015-meeting-arapahoe-tea-party-program-to-be-announced
DTSTART:20150715T003000Z
DTEND:20150715T023000Z
CATEGORIES:"monthly meeting"
LOCATION:South Metro Fire Rescue Authority; Mineral Headquarters, Boar
 d Room
WEBSITE:https://maps.google.com/maps?oe=utf-8&client=firefox-a&ie=UTF-
 8&q=south+metro+fire+rescue+authority+mineral+headquarters&fb=1&gl=us&
 hq=south+metro+fire+rescue+authority+mineral+headquarters&cid=0,0,9189
 900575761474566&ei=wsvZUfvrHoWQyQHR5oGQCg&ved=0CIcBEPwSMAA
URL:https://maps.google.com/maps?oe=utf-8&client=firefox-a&ie=UTF-8&q=
 south+metro+fire+rescue+authority+mineral+headquarters&fb=1&gl=us&hq=s
 outh+metro+fire+rescue+authority+mineral+headquarters&cid=0,0,91899005
 75761474566&ei=wsvZUfvrHoWQyQHR5oGQCg&ved=0CIcBEPwSMAA
CONTACT:303-885-2550
ORGANIZER:Regina Thomson and Randy Corporon [posted by W. Branstetter]
ATTACH;FMTTYPE="image/jpeg":
ATTENDEE;ROLE=REQ-PARTICIPANT;PARTSTAT=ACCEPTED;RSVP=TRUE;CN="Christop
 her LaCount":http://arapahoeteaparty.ning.com/profile/ChristopherLaCou
 nt
ATTENDEE;ROLE=REQ-PARTICIPANT;PARTSTAT=ACCEPTED;RSVP=TRUE;CN="W. Brans
 tetter":http://arapahoeteaparty.ning.com/profile/WBranstetter
END:VEVENT
END:VCALENDAR
