BEGIN:VCALENDAR
PRODID:NingEventWidget-v1
VERSION:2.0
METHOD:PUBLISH
BEGIN:VEVENT
UID:3186561:Event:55162
DTSTAMP:20210313T182948Z
SUMMARY:July 2015 Meeting: Arapahoe Tea Party expect several topics
DESCRIPTION:\nJoin the Arapahoe Tea Party and the Colorado Tea Party P
 atriots for our July 14, 2015, meeting.  [Note that the program remai
 ns to be announced.]  Meeting topics are always informative.  \n\nAl
 ways more to talk about, so come for information.\n\n\n***********\nLO
 ST & FOUND\nAlso note some people have left items at meetings--a down 
 vest and a 3-ring binder with music pages (date into Nov. 2014; perhap
 s percussion notations?)--Denise Denny has those items and keeps aski
 ng people at meetings.  If you know about these items please come to 
 this meeting to get them.\n\n\n*************\n\nAs with all of the mee
 tings, come early for a good seat.  There may be additions to the pro
 gram.\n\nOur meetings have been standing room only, so come early!\n 
 \nTuesday, July 14, 2015 6:30-8:30 pm South Metro Fire Rescue 9195 E. 
 Mineral Ave. Centennial, CO 80112\n \n\nEvent announcement on Faceboo
 k:\n\n \n \nIf you would be interested in helping with a committee o
 r two that might help make meetings and events run smoother, would you
  please post a brief comment with this announcement.\n \nIf you are n
 ot connected via Facebook, please find the group \"Arapahoe Tea Party\
 " for news items and events:\nhttps://www.facebook.com/groups/arapaho
 eteaparty\n \n*************************\n\nNOTE:  Please do not cont
 act the building management for information about this event.  The gr
 oup sponsoring the event has contact information at the link provided 
 above.\n\n************************\n\nReminder from April 2015 meeting
  of Darryl Glenn, candidate for U.S Senator, currently El Paso County 
 Commissioner\n\nhttp://www.electdarrylglenn.com/\n\nhttp://www.csindy.
 com/IndyBlog/archives/2015/01/15/darryl-glenn-will-run-against-sen-ben
 net\n\nhttp://gazette.com/glenn-early-announcement-for-u.s.-senate-run
 -shows-he-is-very-serious/article/1544655\n\n\n\nFor more information 
 visit http://arapahoeteaparty.ning.com/events/july-2015-meeting-arapah
 oe-tea-party-expect-several-topics
DTSTART:20150715T003000Z
DTEND:20150715T023000Z
CATEGORIES:"monthly meeting"
LOCATION:South Metro Fire Rescue Authority; Mineral Headquarters, Boar
 d Room
WEBSITE:https://maps.google.com/maps?oe=utf-8&client=firefox-a&ie=UTF-
 8&q=south+metro+fire+rescue+authority+mineral+headquarters&fb=1&gl=us&
 hq=south+metro+fire+rescue+authority+mineral+headquarters&cid=0,0,9189
 900575761474566&ei=wsvZUfvrHoWQyQHR5oGQCg&ved=0CIcBEPwSMAA
URL:https://maps.google.com/maps?oe=utf-8&client=firefox-a&ie=UTF-8&q=
 south+metro+fire+rescue+authority+mineral+headquarters&fb=1&gl=us&hq=s
 outh+metro+fire+rescue+authority+mineral+headquarters&cid=0,0,91899005
 75761474566&ei=wsvZUfvrHoWQyQHR5oGQCg&ved=0CIcBEPwSMAA
CONTACT:303-885-2550
ORGANIZER:Regina Thomson and Randy Corporon [posted by W. Branstetter]
ATTACH;FMTTYPE="image/jpeg":
ATTENDEE;ROLE=REQ-PARTICIPANT;PARTSTAT=ACCEPTED;RSVP=TRUE;CN="W. Brans
 tetter":http://arapahoeteaparty.ning.com/profile/WBranstetter
END:VEVENT
END:VCALENDAR
