BEGIN:VCALENDAR
PRODID:NingEventWidget-v1
VERSION:2.0
METHOD:PUBLISH
BEGIN:VEVENT
UID:3186561:Event:51071
DTSTAMP:20210313T182444Z
SUMMARY:Joe America on VelocityRadio.FM:  Daily show starts
DESCRIPTION:If you have been following the Facebook group page for Ara
 pahoe Tea Party you may have seen announcements for a Saturday morning
  program.  There is a new announcement that Joe America will have a d
 aily show on VelocityRadio.FM from 7:00 a.m. to 8:00 a.m.The Facebook 
 event announcement for this event starting Monday, June 23, 2014, at 7
 :00 a.m. is available at:\n\nhttps://www.facebook.com/events/655456201
 213845/\n\nThere is a listen button on the top right side of the scree
 n at:\n\nhttp://www.velocityradio.fm/\n\nHere is the text of the annou
 ncement:\n\nWe just LOVE announcements! And guess what - WE HAVE ONE!!
 !! JOE AMERICA GOES DAILY! Our Daily Show Debuts Tomorrow Morning at 7
 am MDT With Guest Douglas County Under Sheriff Tony Spurlock. We’ll 
 be discussing with Undersheriff Spurlock the constitutional duties of 
 a County Sheriff and how his campaign is going. We’ll also have a fo
 llow up discussion on Common Core. You don’t want to miss this show!
  Be sure to tune in! www.VelocityRadio.FM or on CastleRockColorado.O
 rg. To listen on your Smartphone or Tablet use the TuneIn Radio App an
 d search for VelocityRadio.FM\n\n**************\n\nNote that the Satur
 day program on MileHi Radio was on the topic of Common Core and inform
 ative.\n\n\nFor more information visit http://arapahoeteaparty.ning.co
 m/events/joe-america-on-velocityradio-fm-daily-show-starts
DTSTART:20140623T130000Z
DTEND:20140623T140000Z
CATEGORIES:"radio show"
LOCATION:on-line or TuneIn  app
WEBSITE:http://www.velocityradio.fm/
URL:http://www.velocityradio.fm/
CONTACT:
ORGANIZER:[posted by W. Branstetter]
ATTACH;FMTTYPE="image/jpeg":
ATTENDEE;ROLE=REQ-PARTICIPANT;PARTSTAT=TENTATIVE;RSVP=TRUE;CN="W. Bran
 stetter":http://arapahoeteaparty.ning.com/profile/WBranstetter
END:VEVENT
END:VCALENDAR
