BEGIN:VCALENDAR
PRODID:NingEventWidget-v1
VERSION:2.0
METHOD:PUBLISH
BEGIN:VEVENT
UID:3186561:Event:48988
DTSTAMP:20210313T174453Z
SUMMARY:Jimmy Sengenberger on-line radio show weekdays 8-10 a.m.
DESCRIPTION:Reminder of Jimmy Sengenberger's daily 8 to 10 a.m. M-F on
 line edition of \"The Jimmy Sengenberger Show\" on www.VelocityRadio.
 fm that started Monday, January 20!  He has had some good interviews
  as evidenced by the ones he has replayed on his Saturday evening prog
 ram (5-8 p.m. on 710 KNUS).   \"Beginning Monday, January 20, Velocity
  Radio is pleased to welcome five-year Denver radio veteran Jimmy Seng
 enberger to its daily show lineup!  [Note that Jimmy is young but exp
 erienced.]  The Jimmy Sengenberger Show will air every Monday through 
 Friday mornings from 8 to 10 a.m., with a focus on a wide variety nati
 onal issues and feature some of the best and most topical guests on th
 e air.  We are excited for Jimmy to lend his engaging, thought-provoki
 ng views to the Velocity network of shows.  In addition to hosting Vel
 ocity’s weekday edition of the program, Jimmy will continue to host 
 a more locally-focused weekend edition of The Jimmy Sengenberger Show 
 on Denver’s News/Talk 710 KNUS, Saturday nights from 5 to 8 p.m.\"  
 http://www.velocityradio.fm/jimmy-sengenberger/\n\nFacebook announceme
 nt for January 20, 2014, \nhttps://www.facebook.com/events/7112171189
 23227/?ref_newsfeed_story_type=regular\n\nMessage about technical issu
 es: \n\"Technical issues resolved but go directly\" to http://tunein.
 com/radio/Castle-Rock-Radio-s106147/\n\nhttps://www.youtube.com/watch?
 v=nYNrHHgg3Dk\n\n\n\nFor more information visit http://arapahoeteapart
 y.ning.com/events/jimmy-sengenberger-on-line-radio-show-weekdays-8-10-
 a-m-5
DTSTART:20140220T150000Z
DTEND:20140220T170000Z
CATEGORIES:"radio show"
LOCATION:\"Castle Rock Radio Tune-in\"
WEBSITE:http://www.velocityradio.fm/jimmy-sengenberger/
URL:http://www.velocityradio.fm/jimmy-sengenberger/
CONTACT:
ORGANIZER:Jimmy Sengenberger [posted by W. Branstetter]
ATTACH;FMTTYPE="image/jpeg":
ATTENDEE;ROLE=REQ-PARTICIPANT;PARTSTAT=TENTATIVE;RSVP=TRUE;CN="W. Bran
 stetter":http://arapahoeteaparty.ning.com/profile/WBranstetter
END:VEVENT
END:VCALENDAR
