BEGIN:VCALENDAR
PRODID:NingEventWidget-v1
VERSION:2.0
METHOD:PUBLISH
BEGIN:VEVENT
UID:3186561:Event:48660
DTSTAMP:20210313T180950Z
SUMMARY:Jimmy Sengenberger on-line radio show weekdays 8-10 a.m.
DESCRIPTION:Join me for the big launch of my 8 to 10 a.m. M-F online e
 dition of \"The Jimmy Sengenberger Show\" on www.VelocityRadio.fm ne
 xt Monday, January 20!  Details for the first episode are being worked
  out and I'll keep you updated, but we're getting set! In the meantime
 , from the folks at Velocity Radio:  \"Beginning Monday, January 20, V
 elocity Radio is pleased to welcome five-year Denver radio veteran Jim
 my Sengenberger to its daily show lineup!  The Jimmy Sengenberger Show
  will air every Monday through Friday mornings from 8 to 10 a.m., with
  a focus on a wide variety national issues and feature some of the bes
 t and most topical guests on the air.  We are excited for Jimmy to len
 d his engaging, thought-provoking views to the Velocity network of sho
 ws.  In addition to hosting Velocity’s weekday edition of the progra
 m, Jimmy will continue to host a more locally-focused weekend edition 
 of The Jimmy Sengenberger Show on Denver’s News/Talk 710 KNUS, Satur
 day nights from 5 to 8 p.m.\"  http://www.velocityradio.fm/jimmy-senge
 nberger/\n\nFacebook announcement for January 20, 2014, \nhttps://www
 .facebook.com/events/711217118923227/?ref_newsfeed_story_type=regular\
 n\nMessage about technical issues: \n\"Technical issues resolved but g
 o directly\" to http://tunein.com/radio/Castle-Rock-Radio-s106147/\n\
 nhttps://www.youtube.com/watch?v=nYNrHHgg3Dk\n\n\n\nFor more informati
 on visit http://arapahoeteaparty.ning.com/events/jimmy-sengenberger-on
 -line-radio-show-weekdays-8-10-a-m-1
DTSTART:20140127T150000Z
DTEND:20140127T170000Z
CATEGORIES:"radio show"
LOCATION:\"Castle Rock Radio Tune-in\"
WEBSITE:http://tunein.com/radio/Castle-Rock-Radio-s106147/
URL:http://tunein.com/radio/Castle-Rock-Radio-s106147/
CONTACT:
ORGANIZER:Jimmy Sengenberger [posted by W. Branstetter]
ATTACH;FMTTYPE="image/jpeg":
ATTENDEE;ROLE=REQ-PARTICIPANT;PARTSTAT=ACCEPTED;RSVP=TRUE;CN="W. Brans
 tetter":http://arapahoeteaparty.ning.com/profile/WBranstetter
END:VEVENT
END:VCALENDAR
