BEGIN:VCALENDAR
PRODID:NingEventWidget-v1
VERSION:2.0
METHOD:PUBLISH
BEGIN:VEVENT
UID:3186561:Event:62390
DTSTAMP:20210313T171026Z
SUMMARY:Jewish Republicans of Colorado meeting with Former Ambassador 
 Sam Zakhem
DESCRIPTION:Jewish Republicans of Colorado\r\nWednesday, August 16, 20
 17 at 6:30 p.m.\r\nEast Side Kosher Deli\r\n499 South Elm Street (at V
 irginia Ave.)\r\nDenver, Colorado 80247\r\n\r\nAdmission FREE! All are
  welcome! (A minimum $6.00 food or drink order keeps the location avai
 lable to us)\r\n\r\nAmbassador Sam Zakhem served as United States Amba
 ssador to Bahrain under Presidents Ronald Reagan and George H.W. Bush.
   He served in the Colorado State House and Senate along with many o
 ther government, business and education accomplishments.\r\n\r\n\r\nht
 tp://www.j-gop.com/\r\n\r\n\r\n\r\n\n\nFor more information visit http
 ://arapahoeteaparty.ning.com/events/jewish-republicans-of-colorado-mee
 ting-with-former-ambassador-sam
DTSTART:20170817T003000Z
DTEND:20170817T020000Z
CATEGORIES:meeting
LOCATION:East Side Kosher Deli
WEBSITE:http://www.j-gop.com/
URL:http://www.j-gop.com/
CONTACT:
ORGANIZER:[posted by W. Branstetter]
ATTACH;FMTTYPE="image/jpeg":
END:VEVENT
END:VCALENDAR
