BEGIN:VCALENDAR
PRODID:NingEventWidget-v1
VERSION:2.0
METHOD:PUBLISH
BEGIN:VEVENT
UID:3186561:Event:62581
DTSTAMP:20210313T171040Z
SUMMARY:Jewish Republicans of Colorado meeting week early with comedia
 n Eric Golub
DESCRIPTION:Tonight Jewish Republicans of Colorado are meeting a week 
 early with comedian and author Eric Golub.  \r\n\r\nMonthly Meeting6:
 30 pm Wednesday, September 13, 2017Admission FREE! All are welcome! (A
  minimum $6.00 food or drink order keeps the location available to us)
 \r\n\r\nEast Side Kosher Deli499 S Elm St, Denver, CO (at Virginia Ave
 )\r\nPlease join us TONIGHT September 13 for the last Jewish Republica
 n meeting of 5777. It will be early as Rosh Hashana begins on our regu
 larly scheduled date. The speaker will be blogger/comedian/author Eric
  Golub (http://tygrrrrexpress.com), Brooklyn born, Long Island raised,
  Politically conservative Jewish blogger, author, and public speaker w
 ho performs politically conservative comedy.\r\nThis will be an entert
 aining and informative meeting, please let others know.\r\nUpcoming sp
 eakers:October 18 – George Brauchler, Candidate for Colorado Governo
 r\r\n\r\nMr. Golub was well received at Arapahoe Tea Party meeting and
  hopefully sold a number of books and T-shirts.  Do see him if you ca
 n.\r\n\r\n\n\nFor more information visit http://arapahoeteaparty.ning.
 com/events/jewish-republicans-of-colorado-meeting-week-early-with-come
 dian-e
DTSTART:20170914T003000Z
DTEND:20170914T023000Z
CATEGORIES:meeting
LOCATION:East Side Kosher Deli
WEBSITE:http://www.j-gop.com/
URL:http://www.j-gop.com/
CONTACT:
ORGANIZER:posted by W. Branstetter
ATTACH;FMTTYPE="image/jpeg":
ATTENDEE;ROLE=REQ-PARTICIPANT;PARTSTAT=TENTATIVE;RSVP=TRUE;CN="W. Bran
 stetter":http://arapahoeteaparty.ning.com/profile/WBranstetter
END:VEVENT
END:VCALENDAR
