BEGIN:VCALENDAR
PRODID:NingEventWidget-v1
VERSION:2.0
METHOD:PUBLISH
BEGIN:VEVENT
UID:3186561:Event:63566
DTSTAMP:20210313T171038Z
SUMMARY:Jewish Republicans of Colorado meeting -- unknown topics
DESCRIPTION:Jewish Republicans of Colorado meeting:\r\n\r\nFREE-FOR-AL
 L DISCUSSION on the current chaotic political atmosphere international
 ly, nationally and in our own state of Colorado!\r\n\r\nMonthly Meetin
 g 6:30 pm Wednesday, November 15, 2017 Admission FREE! All are welcome
 ! (A minimum $6.00 food or drink order keeps the location available to
  us)\r\n\r\nEast Side Kosher Deli 499 S Elm St, Denver, CO (at Virgini
 a Ave)\r\n\r\n\r\nhttp://www.j-gop.com/\r\n\r\n\n\nFor more informatio
 n visit http://arapahoeteaparty.ning.com/events/jewish-republicans-of-
 colorado-meeting-unknown-topics
DTSTART:20171116T013000Z
DTEND:20171116T033000Z
CATEGORIES:meeting
LOCATION:East Side Kosher Deli
WEBSITE:http://www.j-gop.com/
URL:http://www.j-gop.com/
CONTACT:
ORGANIZER:posted by W. Branstetter
ATTACH;FMTTYPE="image/jpeg":
END:VEVENT
END:VCALENDAR
