BEGIN:VCALENDAR
PRODID:NingEventWidget-v1
VERSION:2.0
METHOD:PUBLISH
BEGIN:VEVENT
UID:3186561:Event:58729
DTSTAMP:20210313T171029Z
SUMMARY:Jewish Republicans of Colorado (meeting):  Learn dangers of TP
 P from Crista Huff
DESCRIPTION:Meeting tonight:  Jewish Republicans of Colorado\n\nLearn
  dangers of TPP -- speaker Crista Huff\nTONIGHT - Wednesday, August 17
 , 2016 ~ 6:30 PM\n\nEast Side Kosher Deli499 S Elm St, Denver, CO\nOur
  Speaker is Crista Huff...\nCrista Huff is a stock market expert and a
  political activist. As a retired Vice President at Morgan Stanley, sh
 e owns and operates an outperforming growth stock website at Goodfell
 owLLC.com. \n\nCrista works with End Global Governance in Washington 
 D.C., educating Congressional staffers on why they should oppose the T
 rans-Pacific Partnership (TPP) trade agreement.\n\nPresentation:\nThe 
 Trans-Pacific Partnership (TPP) trade agreement:What is the TPP?Timing
  of the voteKey playersWho is lying to us about the TPP?Why did the U.
 S. Trade Representative disappear, and why is there a media blackout o
 n his disappearance?\n\n\n\nFor more information visit http://arapahoe
 teaparty.ning.com/events/jewish-republicans-of-colorado-meeting-learn-
 dangers-of-tpp-from-
DTSTART:20160818T003000Z
DTEND:20160818T023000Z
CATEGORIES:meeting
LOCATION:East Side Kosher Deli
WEBSITE:
URL:
CONTACT:
ORGANIZER:[posted by W. Branstetter]
ATTACH;FMTTYPE="image/jpeg":
ATTENDEE;ROLE=REQ-PARTICIPANT;PARTSTAT=TENTATIVE;RSVP=TRUE;CN="W. Bran
 stetter":http://arapahoeteaparty.ning.com/profile/WBranstetter
END:VEVENT
END:VCALENDAR
