BEGIN:VCALENDAR
PRODID:NingEventWidget-v1
VERSION:2.0
METHOD:PUBLISH
BEGIN:VEVENT
UID:3186561:Event:57862
DTSTAMP:20210313T171037Z
SUMMARY:Jewish Republicans of Colorado:  Article V \"Convention of Sta
 tes\" Facts vs. Fiction
DESCRIPTION:Jewish Republicans of Colorado (monthly meeting)  \nArtic
 le V \"Convention of States\" Facts vs. Fiction\nWednesday, April 20, 
 2016 at 6:30 p.m. MT\nAdmission FREE! All are welcome! (A minimum $6.0
 0 food or drink order keeps the location available to us) \nEast Side
  Kosher Deli \n\n499 S Elm Street\nDenver, CO 80247 (at Virginia Ave.
 ) \n\nFrom J-GOP President Dan Kopelman: \n\n...Kristina Cook, is th
 e host of her own radio show and the State director of Convention of S
 tates. She was at the Colorado Convention as well. Kristina is going t
 o give us an update on the Convention of States and will give us her p
 erspective of where Colorado stands as well as some insight into how w
 e have become the center of the political storm.\n\nKris Cook ... rece
 ntly became the State Director for the Convention of States Project, a
  nationwide effort to convene a convention for proposing amendments to
  the Constitution under Article V. It is that effort that will be the 
 focus of her presentation. \n\n...Bring a friend or two to join in th
 e discussion! Admission is FREE! Just spend $6 from the menu. All are
  welcome!\n\n\nhttp://www.j-gop.com/\n\n\nFor more information visit h
 ttp://arapahoeteaparty.ning.com/events/jewish-republicans-of-colorado-
 article-v-convention-of-states-fac
DTSTART:20160421T003000Z
DTEND:20160421T023000Z
CATEGORIES:meeting
LOCATION:East Side Kosher Deli
WEBSITE:http://www.j-gop.com/
URL:http://www.j-gop.com/
CONTACT:
ORGANIZER:J-GOP [posted by W. Branstetter]
ATTACH;FMTTYPE="image/jpeg":
ATTENDEE;ROLE=REQ-PARTICIPANT;PARTSTAT=TENTATIVE;RSVP=TRUE;CN="W. Bran
 stetter":http://arapahoeteaparty.ning.com/profile/WBranstetter
END:VEVENT
END:VCALENDAR
