BEGIN:VCALENDAR
PRODID:NingEventWidget-v1
VERSION:2.0
METHOD:PUBLISH
BEGIN:VEVENT
UID:3186561:Event:48614
DTSTAMP:20210313T174259Z
SUMMARY:January Meeting: Arapahoe Tea Party
DESCRIPTION:Join the Arapahoe Tea Party and the Colorado Tea Party Pat
 riots for our January meeting.\n\nCandidates Owen Hill (for U.S. sena
 te) and Greg Brophy (for governor) are scheduled to speak as well as t
 here will be caucus training.  There are some things that some people
  may want to know about the Colorado caucus, especially if someone is 
 just beginning to learn more about the political systems in Colorado.\
 n\n \n\n\n\n\nBring your questions, your perspective and your comment
 s. Our meetings have been standing room only, so come early!\n \nTues
 day, January 14, 2014 6:30-8:30 pm South Metro Fire Rescue 9195 E. Min
 eral Ave. Centennial, CO 80112\n \nWatch for other announcements from
  Randy Corporon regarding speakers or topics.\n\nEvent announcement on
  Facebook:\nhttps://www.facebook.com/events/574737822612972/\n \nIf y
 ou would be interested in helping with a committee or two that might h
 elp make meetings and events run smoother, would you please post a bri
 ef comment with this announcement.\n \nIf you are not connected via F
 acebook, please find the group \"Arapahoe Tea Party\" \nhttps://www.f
 acebook.com/groups/arapahoeteaparty\n \n*************************\n\n
 NOTE:  Please do not contact the building management for information 
 about this event.  The group sponsoring the event has contact informa
 tion at the link provided above.\n\n\n\nFor more information visit htt
 p://arapahoeteaparty.ning.com/events/january-meeting-arapahoe-tea-part
 y
DTSTART:20140115T013000Z
DTEND:20140115T033000Z
CATEGORIES:"monthly meeting"
LOCATION:South Metro Fire Rescue Authority; Mineral Headquarters, Boar
 d Room
WEBSITE:https://maps.google.com/maps?oe=utf-8&client=firefox-a&ie=UTF-
 8&q=south+metro+fire+rescue+authority+mineral+headquarters&fb=1&gl=us&
 hq=south+metro+fire+rescue+authority+mineral+headquarters&cid=0,0,9189
 900575761474566&ei=wsvZUfvrHoWQyQHR5oGQCg&ved=0CIcBEPwSMAA
URL:https://maps.google.com/maps?oe=utf-8&client=firefox-a&ie=UTF-8&q=
 south+metro+fire+rescue+authority+mineral+headquarters&fb=1&gl=us&hq=s
 outh+metro+fire+rescue+authority+mineral+headquarters&cid=0,0,91899005
 75761474566&ei=wsvZUfvrHoWQyQHR5oGQCg&ved=0CIcBEPwSMAA
CONTACT:303-885-2550
ORGANIZER:Randy Corporon [posted by W. Branstetter]
ATTACH;FMTTYPE="image/jpeg":
ATTENDEE;ROLE=REQ-PARTICIPANT;PARTSTAT=ACCEPTED;RSVP=TRUE;CN="Tom Devi
 ne":http://arapahoeteaparty.ning.com/profile/TomDevine
ATTENDEE;ROLE=REQ-PARTICIPANT;PARTSTAT=ACCEPTED;RSVP=TRUE;CN="Randy B 
 Corporon":http://arapahoeteaparty.ning.com/profile/RandyBCorporon
ATTENDEE;ROLE=REQ-PARTICIPANT;PARTSTAT=ACCEPTED;RSVP=TRUE;CN="Lisa G S
 pear":http://arapahoeteaparty.ning.com/profile/LisaGSpear
ATTENDEE;ROLE=REQ-PARTICIPANT;PARTSTAT=TENTATIVE;RSVP=TRUE;CN="W. Bran
 stetter":http://arapahoeteaparty.ning.com/profile/WBranstetter
END:VEVENT
END:VCALENDAR
