BEGIN:VCALENDAR
PRODID:NingEventWidget-v1
VERSION:2.0
METHOD:PUBLISH
BEGIN:VEVENT
UID:3186561:Event:53777
DTSTAMP:20210313T173333Z
SUMMARY:January 2015 Meeting: Arapahoe Tea Party
DESCRIPTION:Join the Arapahoe Tea Party and the Colorado Tea Party Pat
 riots for our January 13, 2015, meeting.\n\nRandy Corporon has invited
 :  -- Steve House, former candidate for governor, plans to campaign fo
 r Colorado GOP Chairman\n\n-- Lily Tang Williams, who has compared \"C
 ommon Core\" to Chinese education, indoctrination\n\n-- \"The efforts 
 to purge conservatives from the ranks of leadership in the Republican 
 Party continue. Bush/Clinton/Romney on the horizon. Not on our watch!\
 "\n\n\nAs with all of the meetings, come early for a good seat.  Ther
 e may be additions to the program.\n\nOur meetings have been standing 
 room only, so come early!\n \nTuesday, January 13, 2015 6:30-8:30 pm 
 South Metro Fire Rescue 9195 E. Mineral Ave. Centennial, CO 80112\n \
 nWatch for other announcements from Randy Corporon regarding speakers 
 or topics.  Listen to KLZ 560 radio.\n\nEvent announcement on Faceboo
 k:\n\nhttps://www.facebook.com/events/760810840656573\n\n \nIf you wo
 uld be interested in helping with a committee or two that might help m
 ake meetings and events run smoother, would you please post a brief co
 mment with this announcement.\n \nIf you are not connected via Facebo
 ok, please find the group \"Arapahoe Tea Party\" \nhttps://www.facebo
 ok.com/groups/arapahoeteaparty\n \n*************************\n\nNOTE:
   Please do not contact the building management for information about
  this event.  The group sponsoring the event has contact information 
 at the link provided above.\n\n\n\nFor more information visit http://a
 rapahoeteaparty.ning.com/events/january-2015-meeting-arapahoe-tea-part
 y
DTSTART:20150114T013000Z
DTEND:20150114T033000Z
CATEGORIES:"monthly meeting"
LOCATION:South Metro Fire Rescue Authority; Mineral Headquarters, Boar
 d Room
WEBSITE:https://maps.google.com/maps?oe=utf-8&client=firefox-a&ie=UTF-
 8&q=south+metro+fire+rescue+authority+mineral+headquarters&fb=1&gl=us&
 hq=south+metro+fire+rescue+authority+mineral+headquarters&cid=0,0,9189
 900575761474566&ei=wsvZUfvrHoWQyQHR5oGQCg&ved=0CIcBEPwSMAA
URL:https://maps.google.com/maps?oe=utf-8&client=firefox-a&ie=UTF-8&q=
 south+metro+fire+rescue+authority+mineral+headquarters&fb=1&gl=us&hq=s
 outh+metro+fire+rescue+authority+mineral+headquarters&cid=0,0,91899005
 75761474566&ei=wsvZUfvrHoWQyQHR5oGQCg&ved=0CIcBEPwSMAA
CONTACT:303-885-2550
ORGANIZER:Regina Thomson and Randy Corporon [posted by W. Branstetter]
ATTACH;FMTTYPE="image/jpeg":
ATTENDEE;ROLE=REQ-PARTICIPANT;PARTSTAT=ACCEPTED;RSVP=TRUE;CN="Randy B 
 Corporon":http://arapahoeteaparty.ning.com/profile/RandyBCorporon
ATTENDEE;ROLE=REQ-PARTICIPANT;PARTSTAT=TENTATIVE;RSVP=TRUE;CN="W. Bran
 stetter":http://arapahoeteaparty.ning.com/profile/WBranstetter
ATTENDEE;ROLE=REQ-PARTICIPANT;PARTSTAT=TENTATIVE;RSVP=TRUE;CN="Earl W.
  \"Rob\" Roberts Jr.":http://arapahoeteaparty.ning.com/profile/EarlWRo
 bRobertsJr
END:VEVENT
END:VCALENDAR
