BEGIN:VCALENDAR
PRODID:NingEventWidget-v1
VERSION:2.0
METHOD:PUBLISH
BEGIN:VEVENT
UID:3186561:Event:46886
DTSTAMP:20210313T182551Z
SUMMARY:J-GOP Meeting:  State Senator David Balmer (speaker)
DESCRIPTION:Considering all of the legislation from the Colorado legis
 lature and Governor Hickenlooper did not veto any bill and decided not
  to decide the Nathan Dunlap death penalty, the Jewish Republicans hop
 e that Senator Balmer will shed some light on the issues. \n \nThere
  is no admission fee for the event; however, a minimum $5.00 food or d
 rink order helps to keep the location available to the group.\n \nJew
 ish Republicans (J-GOP)\nhttp://www.j-gop.com/\nWednesday, July 17, 20
 13 at 6:30 p.m.\nEast Side Kosher Deli\n499 South Elm Street (at Virgi
 nia Ave)\nDenver, CO 80247\n \nNext meetings:\nAugust 21\nSeptember 1
 1\n \nPlease refer to the web site for more information about this gr
 oup:\n \nhttp://www.j-gop.com/\n \n\nFor more information visit http
 ://arapahoeteaparty.ning.com/events/j-gop-meeting-state-senator-david-
 balmer-speaker
DTSTART:20130718T003000Z
DTEND:20130718T023000Z
CATEGORIES:monthly, meeting
LOCATION:East Side Kosher Deli
WEBSITE:http://www.j-gop.com/
URL:http://www.j-gop.com/
CONTACT:
ORGANIZER:J-GOP
ATTACH;FMTTYPE="image/jpeg":
END:VEVENT
END:VCALENDAR
