BEGIN:VCALENDAR
PRODID:NingEventWidget-v1
VERSION:2.0
METHOD:PUBLISH
BEGIN:VEVENT
UID:3186561:Event:37404
DTSTAMP:20210313T171534Z
SUMMARY:Inconvenient Townhall with Sunny Roseman, Tom Tancredo, etc.
DESCRIPTION:Sunny Roseman will hold another \"Inconvenient Townhall\" 
 at the Duffeyroll Cafe in Littleton this coming Tuesday morning.  He 
 and Tom Tancredo will have plenty to say in their respective ways.  R
 andy Corporon is listed as a contributor with tips on how to get invol
 ved.\n \nCheck out the announcement on Facebook:\nhttps://www.faceboo
 k.com/events/216972971754414\n \nFrom the \"Action Items\" prepared b
 y R Block Party.\n \n \n \n\nFor more information visit http://arap
 ahoeteaparty.ning.com/events/inconvenient-townhall-with-sunny-roseman-
 tom-tancredo-etc
DTSTART:20120605T133000Z
DTEND:20120605T150000Z
CATEGORIES:townhall
LOCATION:Duffeyroll Cafe
WEBSITE:
URL:
CONTACT:
ORGANIZER:posted by W. Branstetter
ATTACH;FMTTYPE="image/jpeg":
ATTENDEE;ROLE=REQ-PARTICIPANT;PARTSTAT=TENTATIVE;RSVP=TRUE;CN="W. Bran
 stetter":http://arapahoeteaparty.ning.com/profile/WBranstetter
END:VEVENT
END:VCALENDAR
