BEGIN:VCALENDAR
PRODID:NingEventWidget-v1
VERSION:2.0
METHOD:PUBLISH
BEGIN:VEVENT
UID:3186561:Event:35800
DTSTAMP:20210313T171810Z
SUMMARY:Heritage Values Bus Speakers and more (Arapahoe Tea Party meet
 ing)
DESCRIPTION:The Heritage Foundation Values Bus speakers will be at our
  monthly meeting on May 1.Â Â  The Values Bus is promoting the theme \
 "Your Money, Your Values, Your Vote.\"Â  The tour is sponsored by Heri
 tage Foundation and Family Research Council from Washington, D.C.\nÂ \
 nPlease plan to arrive early.Â  We could use just a few people who cou
 ld help set out chairs starting at 5:00 p.m.Â  The bus is arriving abo
 ut 5:30 p.m. and we may need assistance with getting them set up.Â  Th
 e double meeting room has been reserved so be sure to bring your famil
 y, friends, neighbors.\nÂ \nTypically we have been starting meetings a
 t 6:30 p.m. but please arrive early and meet people.Â  Randy may have 
 more planned.\nÂ \nSee tour photos and schedule at:\nÂ \nhttp://values
 bus.com/\nÂ \nNote:Â  I am still winging this announcement.Â  Randy ha
 s been court and unavailable.Â  (Wilma B)\nÂ \n******************\nÂ \
 nRandy Corporon will provide better details and his game plan soon.\nÂ
  \nThere may be an earlier start for this meeting so please watch for 
 updates.Â  We do need some volunteers to arrive early (5:00 p.m.) to h
 elp with the set up because both of the large meeting rooms will be us
 ed.Â \nÂ \nArapahoe County Tea Party -- Monthly Meeting\nÂ \n5:00 - 6:
 00:Â  Volunteers areÂ needed for set up\nÂ \nÂ Â Â Â Â Â Â Â Â Â Â Â Â
  Â Â Â Â Â Â  Please arrive early for sign in and visiting\nÂ \n6:00 -
  8:30:Â  Meeting program to be announced soon\nÂ \n8:30:Â  Adjourn and
  socialize [room needs to have chairs andÂ tables cleared and stacked]
 \nÂ \n9:00:Â  Facilities are closed promptly by library staff\nÂ \nÂ \
 nHave you seen the Heritage Foundation and Family Research Council Val
 ues Bus?Â  It is touring the country and may be in our area then.\nÂ \
 nhttp://valuesbus.com/Â \n ************************\n Â Note:Â  Librar
 y closes promptly at 9:00 p.m.\n Disclaimer: \"Granting of permission 
 by the Arapahoe Library District to use library facilities does not co
 nstitute endorsement by the Library District Staff or Board of Trustee
 s. \" Only signs that are 8 Â½ x 11 are allowed to be posted & only by
  the meeting room(s).\nÂ \nAll activities for meetings need to be conf
 ined to the reservedÂ meeting room.Â  Distribution of pamphlets outsid
 e the meeting room must be in designated locations outside the buildin
 g.\nÂ Â Â \nÂ \n\nFor more information visit http://arapahoeteaparty.n
 ing.com/events/heritage-values-bus-speakers-and-more-arapahoe-tea-part
 y-meeting
DTSTART:20120502T000000Z
DTEND:20120502T023000Z
CATEGORIES:"monthly meeting"
LOCATION:Smoky Hill Library; Room A/B
WEBSITE:http://arapahoeteaparty.ning.com/
URL:http://arapahoeteaparty.ning.com/
CONTACT:(303) 690-5401
ORGANIZER:posted by W. Branstetter
ATTACH;FMTTYPE="image/jpeg":
ATTENDEE;ROLE=REQ-PARTICIPANT;PARTSTAT=ACCEPTED;RSVP=TRUE;CN="Randy B 
 Corporon":http://arapahoeteaparty.ning.com/profile/RandyBCorporon
ATTENDEE;ROLE=REQ-PARTICIPANT;PARTSTAT=ACCEPTED;RSVP=TRUE;CN="W. Brans
 tetter":http://arapahoeteaparty.ning.com/profile/WBranstetter
ATTENDEE;ROLE=REQ-PARTICIPANT;PARTSTAT=ACCEPTED;RSVP=TRUE;CN="Chairman
 's Committee":http://arapahoeteaparty.ning.com/profile/chairmanscommit
 tee
END:VEVENT
END:VCALENDAR
