BEGIN:VCALENDAR
PRODID:NingEventWidget-v1
VERSION:2.0
METHOD:PUBLISH
BEGIN:VEVENT
UID:3186561:Event:49206
DTSTAMP:20210313T174744Z
SUMMARY:“Heart of the Matter” radio program on KLZ 560 AM--Topic \
 "Fracking\"
DESCRIPTION:The ladies have announced that today's show topic will be 
 \"fracking\" and they will have some guests with experience.  \nThe l
 adies are still working their way through the Constitution  and may h
 ave comments on recent changes in the candidates and campaigns in Colo
 rado.  Be sure to tune in at 4:00 p.m. Sundays for their radio show.\
 n\nThe ladies of the \"Heart of the Matter\" are getting down to busin
 ess weaving topics of discussion with how they fit (or not) with the C
 onstitution.  Tune in for the \"Americhicks\" and get to the heart of
  the matter.\n\nJill Vecchio, Molly Vogt and Kim Monson host a new pro
 gram on KLZ 560 radio:\n “Heart of the Matter”\n \nOn KLZ 560 AM
   “The Source”\nhttp://www.560thesource.com/\n Sundays 4-6pm Show
  Debuted July 14, 2013 Spend 2 hours a week getting to the “Heart”
  of the issues without the rhetoric of typical talk radio!\n “Strong
  Enough for a Man….but made for a woman”\n Show can be heard along
  the front range of Colorado.   Out of range??  Just listen to us on
  TuneIn Radio anywhere in the world!!\nJill Vecchio, MD\n303-550-5007\
 n\nAlso check out:\nhttp://americhicks.com/\n\nhttps://www.facebook.co
 m/pages/Americhicks/183484875153093\n\n************************\n\nUse
  the \"Listen\" button on the KLZ 560 web site listed above for comput
 er connection to the show.\n\n**************************\n\nAlso, chec
 k the following page for other liberty podcasts for Colorado.  Molly 
 Vogt is one of the people involved with this project.\n\nhttp://www.li
 bertycast.net/\n\n\nFor more information visit http://arapahoeteaparty
 .ning.com/events/heart-of-the-matter-radio-program-on-klz-560-am-topic
 -fracking
DTSTART:20140323T220000Z
DTEND:20140324T000000Z
CATEGORIES:"radio show"
LOCATION:\"KLZ 560 AM the source radio\"
WEBSITE:http://www.560thesource.com/
URL:http://www.560thesource.com/
CONTACT:
ORGANIZER:posted by W. Branstetter
ATTACH;FMTTYPE="image/jpeg":
ATTENDEE;ROLE=REQ-PARTICIPANT;PARTSTAT=ACCEPTED;RSVP=TRUE;CN="W. Brans
 tetter":http://arapahoeteaparty.ning.com/profile/WBranstetter
END:VEVENT
END:VCALENDAR
