BEGIN:VCALENDAR
PRODID:NingEventWidget-v1
VERSION:2.0
METHOD:PUBLISH
BEGIN:VEVENT
UID:3186561:Event:49467
DTSTAMP:20210313T183025Z
SUMMARY:“Heart of the Matter” radio program on KLZ 560 AM
DESCRIPTION: \nThe ladies are still working their way through the Con
 stitution  and may have comments on recent changes in the candidates 
 and campaigns in Colorado.  Be sure to tune in at 4:00 p.m. Sundays f
 or their radio show.\n\nThe ladies of the \"Heart of the Matter\" are 
 getting down to business weaving topics of discussion with how they fi
 t (or not) with the Constitution.  Tune in for the \"Americhicks\" an
 d get to the heart of the matter.\n\nJill Vecchio, Molly Vogt and Kim 
 Monson host a new program on KLZ 560 radio:\n “Heart of the Matter
 \n \nOn KLZ 560 AM  “The Source”\nhttp://www.560thesource.com/
 \n Sundays 4-6pm Show Debuted July 14, 2013 Spend 2 hours a week getti
 ng to the “Heart” of the issues without the rhetoric of typical ta
 lk radio!\n “Strong Enough for a Man….but made for a woman”\n Sh
 ow can be heard along the front range of Colorado.   Out of range?? 
  Just listen to us on TuneIn Radio anywhere in the world!!\nJill Vecch
 io, MD\n303-550-5007\n\nAlso check out:\nhttp://americhicks.com/\n\nht
 tps://www.facebook.com/pages/Americhicks/183484875153093\n\n**********
 **************\n\nUse the \"Listen\" button on the KLZ 560 web site li
 sted above for computer connection to the show.\n\n*******************
 *******\n\nAlso, check the following page for other liberty podcasts f
 or Colorado.  Molly Vogt is one of the people involved with this proj
 ect.\n\nhttp://www.libertycast.net/\n\n\nFor more information visit ht
 tp://arapahoeteaparty.ning.com/events/heart-of-the-matter-radio-progra
 m-on-klz-560-am-topic-fracking-1
DTSTART:20140330T220000Z
DTEND:20140331T000000Z
CATEGORIES:"radio show"
LOCATION:\"KLZ 560 AM the source radio\"
WEBSITE:http://www.560thesource.com/
URL:http://www.560thesource.com/
CONTACT:
ORGANIZER:posted by W. Branstetter
ATTACH;FMTTYPE="image/jpeg":
ATTENDEE;ROLE=REQ-PARTICIPANT;PARTSTAT=ACCEPTED;RSVP=TRUE;CN="W. Brans
 tetter":http://arapahoeteaparty.ning.com/profile/WBranstetter
END:VEVENT
END:VCALENDAR
