BEGIN:VCALENDAR
PRODID:NingEventWidget-v1
VERSION:2.0
METHOD:PUBLISH
BEGIN:VEVENT
UID:3186561:Event:54993
DTSTAMP:20210313T175543Z
SUMMARY:“Heart of the Matter” radio program on KLZ 560 AM
DESCRIPTION:Tune in for the \"Americhicks\" and discussion of news ite
 ms and how they fit with the Constitution.  Molly Vogt and Kim Monson
  will get to the \"Heart of the Matter\" Sunday evenings 4-6 p.m.\n\nN
 ote the \"Americhicks\" have been hanging out at the Western Conservat
 ive Summit with a booth.  I suspect they may have recorded some good 
 interviews.  Tune in for a report on presidential candidate speakers.
 \n\nCongratulations to the ladies (\"Americhicks\") on their expanding
  market and new radio stations in Alabama and Oregon!  Their first sh
 ow (May 4) in the new markets received some good calls.\n\n\nThe ladie
 s of the \"Heart of the Matter\" are getting down to business weaving 
 topics of discussion with how they fit (or not) with the Constitution.
   Tune in for the \"Americhicks\" and get to the heart of the matter.
 \n\nMolly Vogt and Kim Monson host a new program on KLZ 560 radio:\n 
 Heart of the Matter”\n \nOn KLZ 560 AM  “The Source”\nhttp:
 //www.560thesource.com/\n Sundays 4-6pm Show Debuted July 14, 2013 Spe
 nd 2 hours a week getting to the “Heart” of the issues without the
  rhetoric of typical talk radio!\n “Strong Enough for a Man….but m
 ade for a woman”\n Show can be heard along the front range of Colora
 do.   Out of range??  Just listen to us on TuneIn Radio anywhere in 
 the world!!\n \n\nAlso check out:\nhttp://americhicks.com/\n\nhttps:/
 /www.facebook.com/pages/Americhicks/183484875153093\n\n***************
 *********\n\nUse the \"Listen\" button on the KLZ 560 web site listed 
 above for computer connection to the show.\n\n************************
 **\n\nAlso, check the following page for other liberty podcasts for Co
 lorado.  Molly Vogt is one of the people involved with this project.\
 n\nhttp://www.libertycast.net/\n\n\nFor more information visit http://
 arapahoeteaparty.ning.com/events/heart-of-the-matter-radio-program-on-
 klz-560-am-913
DTSTART:20150628T220000Z
DTEND:20150629T000000Z
CATEGORIES:"radio show"
LOCATION:\"KLZ 560 AM the source radio\"
WEBSITE:http://www.560thesource.com/
URL:http://www.560thesource.com/
CONTACT:
ORGANIZER:posted by W. Branstetter
ATTACH;FMTTYPE="image/jpeg":
ATTENDEE;ROLE=REQ-PARTICIPANT;PARTSTAT=ACCEPTED;RSVP=TRUE;CN="W. Brans
 tetter":http://arapahoeteaparty.ning.com/profile/WBranstetter
END:VEVENT
END:VCALENDAR
