BEGIN:VCALENDAR
PRODID:NingEventWidget-v1
VERSION:2.0
METHOD:PUBLISH
BEGIN:VEVENT
UID:3186561:Event:48636
DTSTAMP:20210313T173837Z
SUMMARY:“Heart of the Matter” radio program on KLZ 560 AM
DESCRIPTION:The ladies of the \"Heart of the Matter\" are getting down
  to business weaving topics of discussion with how they fit (or not) w
 ith the Constitution.  Tune in for the \"Americhicks\" and get to the
  heart of the matter.\n\nJill Vecchio, Molly Vogt and Kim Monson host 
 a new program on KLZ 560 radio:\n “Heart of the Matter”\n \nOn KL
 Z 560 AM  “The Source”\nhttp://www.560thesource.com/\n Sundays 4
 -6pm Show Debuted July 14, 2013 Spend 2 hours a week getting to the 
 Heart” of the issues without the rhetoric of typical talk radio!\n 
 “Strong Enough for a Man….but made for a woman”\n Show can be he
 ard along the front range of Colorado.   Out of range??  Just listen
  to us on TuneIn Radio anywhere in the world!!\nJill Vecchio, MD\n303-
 550-5007\n\nAlso check out:\nhttp://americhicks.com/\n\nhttps://www.fa
 cebook.com/pages/Americhicks/183484875153093\n\n**********************
 **\n\nUse the \"Listen\" button on the KLZ 560 web site listed above f
 or computer connection to the show.\n\n**************************\n\nA
 lso, check the following page for other liberty podcasts for Colorado.
   Molly Vogt is one of the people involved with this project.\n\nhttp
 ://www.libertycast.net/\n\n\nFor more information visit http://arapaho
 eteaparty.ning.com/events/heart-of-the-matter-radio-program-on-klz-560
 -am-9
DTSTART:20140119T230000Z
DTEND:20140120T010000Z
CATEGORIES:"radio show"
LOCATION:\"KLZ 560 AM the source radio\"
WEBSITE:http://www.560thesource.com/
URL:http://www.560thesource.com/
CONTACT:
ORGANIZER:posted by W. Branstetter
ATTACH;FMTTYPE="image/jpeg":
ATTENDEE;ROLE=REQ-PARTICIPANT;PARTSTAT=ACCEPTED;RSVP=TRUE;CN="W. Brans
 tetter":http://arapahoeteaparty.ning.com/profile/WBranstetter
END:VEVENT
END:VCALENDAR
