BEGIN:VCALENDAR
PRODID:NingEventWidget-v1
VERSION:2.0
METHOD:PUBLISH
BEGIN:VEVENT
UID:3186561:Event:51211
DTSTAMP:20210313T181621Z
SUMMARY:“Heart of the Matter” radio program on KLZ 560 AM
DESCRIPTION:Dr. Jill Vecchio reports that this show will offer suggest
 ions for changes to bureaucracy and medical care.  So tune in and exp
 ect to hear about the VA scandal news.\n\n\nCongratulations to the lad
 ies (\"Americhicks\") on their expanding market and new radio stations
  in Alabama and Oregon!  Their first show (May 4) in the new markets 
 received some good calls.\n \nThe ladies are still working their way 
 through the Constitution.  Be sure to tune in at 4:00 p.m. Sundays fo
 r their radio show.\n\nThe ladies of the \"Heart of the Matter\" are g
 etting down to business weaving topics of discussion with how they fit
  (or not) with the Constitution.  Tune in for the \"Americhicks\" and
  get to the heart of the matter.\n\nJill Vecchio, Molly Vogt and Kim M
 onson host a new program on KLZ 560 radio:\n “Heart of the Matter”
 \n \nOn KLZ 560 AM  “The Source”\nhttp://www.560thesource.com/\
 n Sundays 4-6pm Show Debuted July 14, 2013 Spend 2 hours a week gettin
 g to the “Heart” of the issues without the rhetoric of typical tal
 k radio!\n “Strong Enough for a Man….but made for a woman”\n Sho
 w can be heard along the front range of Colorado.   Out of range??  
 Just listen to us on TuneIn Radio anywhere in the world!!\nJill Vecchi
 o, MD\n303-550-5007\n\nAlso check out:\nhttp://americhicks.com/\n\nhtt
 ps://www.facebook.com/pages/Americhicks/183484875153093\n\n***********
 *************\n\nUse the \"Listen\" button on the KLZ 560 web site lis
 ted above for computer connection to the show.\n\n********************
 ******\n\nAlso, check the following page for other liberty podcasts fo
 r Colorado.  Molly Vogt is one of the people involved with this proje
 ct.\n\nhttp://www.libertycast.net/\n\n\nFor more information visit htt
 p://arapahoeteaparty.ning.com/events/heart-of-the-matter-radio-program
 -on-klz-560-am-801
DTSTART:20140810T220000Z
DTEND:20140811T000000Z
CATEGORIES:"radio show"
LOCATION:\"KLZ 560 AM the source radio\"
WEBSITE:http://www.560thesource.com/
URL:http://www.560thesource.com/
CONTACT:
ORGANIZER:posted by W. Branstetter
ATTACH;FMTTYPE="image/jpeg":
ATTENDEE;ROLE=REQ-PARTICIPANT;PARTSTAT=ACCEPTED;RSVP=TRUE;CN="W. Brans
 tetter":http://arapahoeteaparty.ning.com/profile/WBranstetter
END:VEVENT
END:VCALENDAR
