BEGIN:VCALENDAR
PRODID:NingEventWidget-v1
VERSION:2.0
METHOD:PUBLISH
BEGIN:VEVENT
UID:3186561:Event:53708
DTSTAMP:20210313T181923Z
SUMMARY:“Heart of the Matter” radio program on KLZ 560 AM
DESCRIPTION:Tune in for the \"Americhicks\" and discussion of news ite
 ms and how they fit with the Constitution.  Molly Vogt and Kim Monson
  will get to the \"Heart of the Matter\" Sunday evenings 4-6 p.m.\n\nT
 opic scheduled is \"human trafficking.\"\n\nCongratulations to the lad
 ies (\"Americhicks\") on their expanding market and new radio stations
  in Alabama and Oregon!  Their first show (May 4) in the new markets 
 received some good calls.\n\n\nThe ladies of the \"Heart of the Matter
 \" are getting down to business weaving topics of discussion with how 
 they fit (or not) with the Constitution.  Tune in for the \"Americhic
 ks\" and get to the heart of the matter.\n\nMolly Vogt and Kim Monson 
 host a new program on KLZ 560 radio:\n “Heart of the Matter”\n \n
 On KLZ 560 AM  “The Source”\nhttp://www.560thesource.com/\n Sund
 ays 4-6pm Show Debuted July 14, 2013 Spend 2 hours a week getting to t
 he “Heart” of the issues without the rhetoric of typical talk radi
 o!\n “Strong Enough for a Man….but made for a woman”\n Show can 
 be heard along the front range of Colorado.   Out of range??  Just l
 isten to us on TuneIn Radio anywhere in the world!!\n \n\nAlso check 
 out:\nhttp://americhicks.com/\n\nhttps://www.facebook.com/pages/Americ
 hicks/183484875153093\n\n************************\n\nUse the \"Listen\
 " button on the KLZ 560 web site listed above for computer connection 
 to the show.\n\n**************************\n\nAlso, check the followin
 g page for other liberty podcasts for Colorado.  Molly Vogt is one of
  the people involved with this project.\n\nhttp://www.libertycast.net/
 \n\n\nFor more information visit http://arapahoeteaparty.ning.com/even
 ts/heart-of-the-matter-radio-program-on-klz-560-am-721
DTSTART:20150215T230000Z
DTEND:20150216T010000Z
CATEGORIES:"radio show"
LOCATION:\"KLZ 560 AM the source radio\"
WEBSITE:http://www.560thesource.com/
URL:http://www.560thesource.com/
CONTACT:
ORGANIZER:posted by W. Branstetter
ATTACH;FMTTYPE="image/jpeg":
ATTENDEE;ROLE=REQ-PARTICIPANT;PARTSTAT=ACCEPTED;RSVP=TRUE;CN="W. Brans
 tetter":http://arapahoeteaparty.ning.com/profile/WBranstetter
END:VEVENT
END:VCALENDAR
