BEGIN:VCALENDAR
PRODID:NingEventWidget-v1
VERSION:2.0
METHOD:PUBLISH
BEGIN:VEVENT
UID:3186561:Event:55284
DTSTAMP:20210313T175837Z
SUMMARY:“Heart of the Matter” radio program on KLZ 560 AM
DESCRIPTION:Tune in for the \"Americhicks\" and discussion of news ite
 ms and how they fit with the Constitution.  Molly Vogt and Kim Monson
  will get to the \"Heart of the Matter\" Sunday evenings 4-6 p.m.\n\nN
 ote the \"Americhicks\" have auditioned on KLZ 560 for the weekday mor
 ning show.  If you have any comments about that, send an e-mail by Ju
 ly 15 to:\n\n4crawford@gmail.com\n\nCongratulations to the ladies (\"A
 merichicks\") on their expanding market and new radio stations in Alab
 ama and Oregon!  Their first show (May 4) in the new markets received
  some good calls.\n\n\nThe ladies of the \"Heart of the Matter\" are g
 etting down to business weaving topics of discussion with how they fit
  (or not) with the Constitution.  Tune in for the \"Americhicks\" and
  get to the heart of the matter.\n\nMolly Vogt and Kim Monson host a n
 ew program on KLZ 560 radio:\n “Heart of the Matter”\n \nOn KLZ 5
 60 AM  “The Source”\nhttp://www.560thesource.com/\n Sundays 4-6p
 m Show Debuted July 14, 2013 Spend 2 hours a week getting to the “He
 art” of the issues without the rhetoric of typical talk radio!\n “
 Strong Enough for a Man….but made for a woman”\n Show can be heard
  along the front range of Colorado.   Out of range??  Just listen to
  us on TuneIn Radio anywhere in the world!!\n \n\nAlso check out:\nht
 tp://americhicks.com/\n\nhttps://www.facebook.com/pages/Americhicks/18
 3484875153093\n\n************************\n\nUse the \"Listen\" button
  on the KLZ 560 web site listed above for computer connection to the s
 how.\n\n**************************\n\nAlso, check the following page f
 or other liberty podcasts for Colorado.  Molly Vogt is one of the peo
 ple involved with this project.\n\nhttp://www.libertycast.net/\n\n\nFo
 r more information visit http://arapahoeteaparty.ning.com/events/heart
 -of-the-matter-radio-program-on-klz-560-am-437
DTSTART:20150809T220000Z
DTEND:20150810T000000Z
CATEGORIES:"radio show"
LOCATION:\"KLZ 560 AM the source radio\"
WEBSITE:http://www.560thesource.com/
URL:http://www.560thesource.com/
CONTACT:
ORGANIZER:posted by W. Branstetter
ATTACH;FMTTYPE="image/jpeg":
ATTENDEE;ROLE=REQ-PARTICIPANT;PARTSTAT=ACCEPTED;RSVP=TRUE;CN="W. Brans
 tetter":http://arapahoeteaparty.ning.com/profile/WBranstetter
END:VEVENT
END:VCALENDAR
