BEGIN:VCALENDAR
PRODID:NingEventWidget-v1
VERSION:2.0
METHOD:PUBLISH
BEGIN:VEVENT
UID:3186561:Event:50844
DTSTAMP:20210313T193307Z
SUMMARY:“Heart of the Matter” radio program on KLZ 560 AM
DESCRIPTION:The ladies continue with their review of the Constitution 
 and the amendments as well news items and looking through the lense of
  the founding documents.\n\nCongratulations to the ladies (\"Americhic
 ks\") on their expanding market and new radio stations in Alabama and 
 Oregon!  Their first show (May 4) in the new markets received some go
 od calls.\n \nThe ladies are still working their way through the Cons
 titution.  Be sure to tune in at 4:00 p.m. Sundays for their radio sh
 ow.\n\nThe ladies of the \"Heart of the Matter\" are getting down to b
 usiness weaving topics of discussion with how they fit (or not) with t
 he Constitution.  Tune in for the \"Americhicks\" and get to the hear
 t of the matter.\n\nJill Vecchio, Molly Vogt and Kim Monson host a new
  program on KLZ 560 radio:\n “Heart of the Matter”\n \nOn KLZ 560
  AM  “The Source”\nhttp://www.560thesource.com/\n Sundays 4-6pm 
 Show Debuted July 14, 2013 Spend 2 hours a week getting to the “Hear
 t” of the issues without the rhetoric of typical talk radio!\n “St
 rong Enough for a Man….but made for a woman”\n Show can be heard a
 long the front range of Colorado.   Out of range??  Just listen to u
 s on TuneIn Radio anywhere in the world!!\nJill Vecchio, MD\n303-550-5
 007\n\nAlso check out:\nhttp://americhicks.com/\n\nhttps://www.faceboo
 k.com/pages/Americhicks/183484875153093\n\n************************\n\
 nUse the \"Listen\" button on the KLZ 560 web site listed above for co
 mputer connection to the show.\n\n**************************\n\nAlso, 
 check the following page for other liberty podcasts for Colorado.  Mo
 lly Vogt is one of the people involved with this project.\n\nhttp://ww
 w.libertycast.net/\n\n\nFor more information visit http://arapahoeteap
 arty.ning.com/events/heart-of-the-matter-radio-program-on-klz-560-am-2
 9
DTSTART:20140629T220000Z
DTEND:20140630T000000Z
CATEGORIES:"radio show"
LOCATION:\"KLZ 560 AM the source radio\"
WEBSITE:http://www.560thesource.com/
URL:http://www.560thesource.com/
CONTACT:
ORGANIZER:posted by W. Branstetter
ATTACH;FMTTYPE="image/jpeg":
ATTENDEE;ROLE=REQ-PARTICIPANT;PARTSTAT=ACCEPTED;RSVP=TRUE;CN="W. Brans
 tetter":http://arapahoeteaparty.ning.com/profile/WBranstetter
END:VEVENT
END:VCALENDAR
