BEGIN:VCALENDAR
PRODID:NingEventWidget-v1
VERSION:2.0
METHOD:PUBLISH
BEGIN:VEVENT
UID:3186561:Event:50143
DTSTAMP:20210313T193258Z
SUMMARY:“Heart of the Matter” radio program on KLZ 560 AM
DESCRIPTION:Dr. Jill Vecchio reports that this show will be about:-- 5
 0th anniversary of LBJ's great society\n-- 9th and 10th Amendments\n--
  VA scandal from a doctor's perspective and more\n\nTune in Sunday on 
 this Memorial Day weekend for a thoughtful program.\n\nCongratulations
  to the ladies (\"Americhicks\") on their expanding market and new rad
 io stations in Alabama and Oregon!  Their first show (May 4) in the n
 ew markets received some good calls.\n \nThe ladies are still working
  their way through the Constitution.  Be sure to tune in at 4:00 p.m.
  Sundays for their radio show.\n\nThe ladies of the \"Heart of the Mat
 ter\" are getting down to business weaving topics of discussion with h
 ow they fit (or not) with the Constitution.  Tune in for the \"Americ
 hicks\" and get to the heart of the matter.\n\nJill Vecchio, Molly Vog
 t and Kim Monson host a new program on KLZ 560 radio:\n “Heart of th
 e Matter”\n \nOn KLZ 560 AM  “The Source”\nhttp://www.560thes
 ource.com/\n Sundays 4-6pm Show Debuted July 14, 2013 Spend 2 hours a 
 week getting to the “Heart” of the issues without the rhetoric of 
 typical talk radio!\n “Strong Enough for a Man….but made for a wom
 an”\n Show can be heard along the front range of Colorado.   Out of
  range??  Just listen to us on TuneIn Radio anywhere in the world!!\n
 Jill Vecchio, MD\n303-550-5007\n\nAlso check out:\nhttp://americhicks.
 com/\n\nhttps://www.facebook.com/pages/Americhicks/183484875153093\n\n
 ************************\n\nUse the \"Listen\" button on the KLZ 560 w
 eb site listed above for computer connection to the show.\n\n*********
 *****************\n\nAlso, check the following page for other liberty 
 podcasts for Colorado.  Molly Vogt is one of the people involved with
  this project.\n\nhttp://www.libertycast.net/\n\n\nFor more informatio
 n visit http://arapahoeteaparty.ning.com/events/heart-of-the-matter-ra
 dio-program-on-klz-560-am-24
DTSTART:20140525T220000Z
DTEND:20140526T000000Z
CATEGORIES:"radio show"
LOCATION:\"KLZ 560 AM the source radio\"
WEBSITE:http://www.560thesource.com/
URL:http://www.560thesource.com/
CONTACT:
ORGANIZER:posted by W. Branstetter
ATTACH;FMTTYPE="image/jpeg":
ATTENDEE;ROLE=REQ-PARTICIPANT;PARTSTAT=ACCEPTED;RSVP=TRUE;CN="W. Brans
 tetter":http://arapahoeteaparty.ning.com/profile/WBranstetter
END:VEVENT
END:VCALENDAR
