BEGIN:VCALENDAR
PRODID:NingEventWidget-v1
VERSION:2.0
METHOD:PUBLISH
BEGIN:VEVENT
UID:3186561:Event:50128
DTSTAMP:20210313T193313Z
SUMMARY:“Heart of the Matter” radio program on KLZ 560 AM
DESCRIPTION:Congratulations to the ladies (\"Americhicks\") on their e
 xpanding market and new radio stations in Alabama and Oregon!  Their 
 first show (May 4) in the new markets received some good calls.\n \nT
 he ladies are still working their way through the Constitution.  Be s
 ure to tune in at 4:00 p.m. Sundays for their radio show.\n\nThe ladie
 s of the \"Heart of the Matter\" are getting down to business weaving 
 topics of discussion with how they fit (or not) with the Constitution.
   Tune in for the \"Americhicks\" and get to the heart of the matter.
 \n\nJill Vecchio, Molly Vogt and Kim Monson host a new program on KLZ 
 560 radio:\n “Heart of the Matter”\n \nOn KLZ 560 AM  “The So
 urce”\nhttp://www.560thesource.com/\n Sundays 4-6pm Show Debuted Jul
 y 14, 2013 Spend 2 hours a week getting to the “Heart” of the issu
 es without the rhetoric of typical talk radio!\n “Strong Enough for 
 a Man….but made for a woman”\n Show can be heard along the front r
 ange of Colorado.   Out of range??  Just listen to us on TuneIn Radi
 o anywhere in the world!!\nJill Vecchio, MD\n303-550-5007\n\nAlso chec
 k out:\nhttp://americhicks.com/\n\nhttps://www.facebook.com/pages/Amer
 ichicks/183484875153093\n\n************************\n\nUse the \"Liste
 n\" button on the KLZ 560 web site listed above for computer connectio
 n to the show.\n\n**************************\n\nAlso, check the follow
 ing page for other liberty podcasts for Colorado.  Molly Vogt is one 
 of the people involved with this project.\n\nhttp://www.libertycast.ne
 t/\n\n\nFor more information visit http://arapahoeteaparty.ning.com/ev
 ents/heart-of-the-matter-radio-program-on-klz-560-am-23
DTSTART:20140518T220000Z
DTEND:20140519T000000Z
CATEGORIES:"radio show"
LOCATION:\"KLZ 560 AM the source radio\"
WEBSITE:http://www.560thesource.com/
URL:http://www.560thesource.com/
CONTACT:
ORGANIZER:posted by W. Branstetter
ATTACH;FMTTYPE="image/jpeg":
ATTENDEE;ROLE=REQ-PARTICIPANT;PARTSTAT=ACCEPTED;RSVP=TRUE;CN="W. Brans
 tetter":http://arapahoeteaparty.ning.com/profile/WBranstetter
END:VEVENT
END:VCALENDAR
