BEGIN:VCALENDAR
PRODID:NingEventWidget-v1
VERSION:2.0
METHOD:PUBLISH
BEGIN:VEVENT
UID:3186561:Event:50087
DTSTAMP:20210313T171439Z
SUMMARY:“Heart of the Matter” radio program on KLZ 560 AM
DESCRIPTION:Congratulations to the ladies (\"Americhicks\") on their e
 xpanding market and new radio stations!\n \nThe ladies are still work
 ing their way through the Constitution.  Be sure to tune in at 4:00 p
 .m. Sundays for their radio show.\n\nThe ladies of the \"Heart of the 
 Matter\" are getting down to business weaving topics of discussion wit
 h how they fit (or not) with the Constitution.  Tune in for the \"Ame
 richicks\" and get to the heart of the matter.\n\nJill Vecchio, Molly 
 Vogt and Kim Monson host a new program on KLZ 560 radio:\n “Heart of
  the Matter”\n \nOn KLZ 560 AM  “The Source”\nhttp://www.560t
 hesource.com/\n Sundays 4-6pm Show Debuted July 14, 2013 Spend 2 hours
  a week getting to the “Heart” of the issues without the rhetoric 
 of typical talk radio!\n “Strong Enough for a Man….but made for a 
 woman”\n Show can be heard along the front range of Colorado.   Out
  of range??  Just listen to us on TuneIn Radio anywhere in the world!
 !\nJill Vecchio, MD\n303-550-5007\n\nAlso check out:\nhttp://americhic
 ks.com/\n\nhttps://www.facebook.com/pages/Americhicks/183484875153093\
 n\n************************\n\nUse the \"Listen\" button on the KLZ 56
 0 web site listed above for computer connection to the show.\n\n******
 ********************\n\nAlso, check the following page for other liber
 ty podcasts for Colorado.  Molly Vogt is one of the people involved w
 ith this project.\n\nhttp://www.libertycast.net/\n\n\nFor more informa
 tion visit http://arapahoeteaparty.ning.com/events/heart-of-the-matter
 -radio-program-on-klz-560-am-21
DTSTART:20140504T220000Z
DTEND:20140505T000000Z
CATEGORIES:"radio show"
LOCATION:\"KLZ 560 AM the source radio\"
WEBSITE:http://www.560thesource.com/
URL:http://www.560thesource.com/
CONTACT:
ORGANIZER:posted by W. Branstetter
ATTACH;FMTTYPE="image/jpeg":
ATTENDEE;ROLE=REQ-PARTICIPANT;PARTSTAT=ACCEPTED;RSVP=TRUE;CN="W. Brans
 tetter":http://arapahoeteaparty.ning.com/profile/WBranstetter
END:VEVENT
END:VCALENDAR
