BEGIN:VCALENDAR
PRODID:NingEventWidget-v1
VERSION:2.0
METHOD:PUBLISH
BEGIN:VEVENT
UID:3186561:Event:49022
DTSTAMP:20210313T173301Z
SUMMARY:“Heart of the Matter” radio program on KLZ 560 AM
DESCRIPTION:The ladies are still working their way through the Constit
 ution  and may have comments on recent changes in the candidates and 
 campaigns in Colorado.  Be sure to tune in at 4:00 p.m. Sundays for t
 heir radio show.\n\nThe ladies of the \"Heart of the Matter\" are gett
 ing down to business weaving topics of discussion with how they fit (o
 r not) with the Constitution.  Tune in for the \"Americhicks\" and ge
 t to the heart of the matter.\n\nJill Vecchio, Molly Vogt and Kim Mons
 on host a new program on KLZ 560 radio:\n “Heart of the Matter”\n
 \nOn KLZ 560 AM  “The Source”\nhttp://www.560thesource.com/\n S
 undays 4-6pm Show Debuted July 14, 2013 Spend 2 hours a week getting t
 o the “Heart” of the issues without the rhetoric of typical talk r
 adio!\n “Strong Enough for a Man….but made for a woman”\n Show c
 an be heard along the front range of Colorado.   Out of range??  Jus
 t listen to us on TuneIn Radio anywhere in the world!!\nJill Vecchio, 
 MD\n303-550-5007\n\nAlso check out:\nhttp://americhicks.com/\n\nhttps:
 //www.facebook.com/pages/Americhicks/183484875153093\n\n**************
 **********\n\nUse the \"Listen\" button on the KLZ 560 web site listed
  above for computer connection to the show.\n\n***********************
 ***\n\nAlso, check the following page for other liberty podcasts for C
 olorado.  Molly Vogt is one of the people involved with this project.
 \n\nhttp://www.libertycast.net/\n\n\nFor more information visit http:/
 /arapahoeteaparty.ning.com/events/heart-of-the-matter-radio-program-on
 -klz-560-am-16
DTSTART:20140316T220000Z
DTEND:20140317T000000Z
CATEGORIES:"radio show"
LOCATION:\"KLZ 560 AM the source radio\"
WEBSITE:http://www.560thesource.com/
URL:http://www.560thesource.com/
CONTACT:
ORGANIZER:posted by W. Branstetter
ATTACH;FMTTYPE="image/jpeg":
ATTENDEE;ROLE=REQ-PARTICIPANT;PARTSTAT=ACCEPTED;RSVP=TRUE;CN="Randy B 
 Corporon":http://arapahoeteaparty.ning.com/profile/RandyBCorporon
ATTENDEE;ROLE=REQ-PARTICIPANT;PARTSTAT=ACCEPTED;RSVP=TRUE;CN="W. Brans
 tetter":http://arapahoeteaparty.ning.com/profile/WBranstetter
END:VEVENT
END:VCALENDAR
