BEGIN:VCALENDAR
PRODID:NingEventWidget-v1
VERSION:2.0
METHOD:PUBLISH
BEGIN:VEVENT
UID:3186561:Event:47637
DTSTAMP:20210313T193421Z
SUMMARY:“Heart of the Matter” new radio program on KLZ 560 AM
DESCRIPTION:Considering the weather and all of the flooding, we can on
 ly hope that the ladies of the \"Heart of the Matter\" will have a saf
 e trip to the studio. \n\nJill Vecchio, Molly Vogt and Kim Monson hos
 t a new program on KLZ 560 radio:\n “Heart of the Matter”\n \nOn 
 KLZ 560 AM  “The Source”\nhttp://www.560thesource.com/\n Sundays
  4-6pm Show Debuted July 14, 2013 Spend 2 hours a week getting to the 
 “Heart” of the issues without the rhetoric of typical talk radio!\
 n “Strong Enough for a Man….but made for a woman”\n Show can be 
 heard along the front range of Colorado.   Out of range??  Just list
 en to us on TuneIn Radio anywhere in the world!!\nJill Vecchio, MD\n30
 3-550-5007\n\nAlso check out, but I think they said the name was chang
 ing:\nhttp://www.560chicks.com/\n\n************************\n\nUse the
  \"Listen\" button on the KLZ 560 web site listed above for computer c
 onnection to the show.\n\n\nFor more information visit http://arapahoe
 teaparty.ning.com/events/heart-of-the-matter-new-radio-program-on-klz-
 560-am-9
DTSTART:20130929T220000Z
DTEND:20130930T000000Z
CATEGORIES:"radio show"
LOCATION:\"KLZ 560 AM the source radio\"
WEBSITE:http://www.560thesource.com/
URL:http://www.560thesource.com/
CONTACT:
ORGANIZER:posted by W. Branstetter
ATTACH;FMTTYPE="image/jpeg":
ATTENDEE;ROLE=REQ-PARTICIPANT;PARTSTAT=ACCEPTED;RSVP=TRUE;CN="W. Brans
 tetter":http://arapahoeteaparty.ning.com/profile/WBranstetter
ATTENDEE;ROLE=REQ-PARTICIPANT;PARTSTAT=TENTATIVE;RSVP=TRUE;CN="Cathy M
 itchell":http://arapahoeteaparty.ning.com/profile/CathyMitchell
END:VEVENT
END:VCALENDAR
