BEGIN:VCALENDAR
PRODID:NingEventWidget-v1
VERSION:2.0
METHOD:PUBLISH
BEGIN:VEVENT
UID:3186561:Event:47318
DTSTAMP:20210313T173157Z
SUMMARY:“Heart of the Matter” new radio program on KLZ 560 AM
DESCRIPTION:\n\nJill Vecchio, Molly Vogt and Kim Monson host a new pro
 gram on KLZ 560 radio:\n “Heart of the Matter”\n \nOn KLZ 560 AM
   “The Source”\nhttp://www.560thesource.com/\n Sundays 4-6pm Show
  Debuted July 14, 2013 Spend 2 hours a week getting to the “Heart”
  of the issues without the rhetoric of typical talk radio!\n “Strong
  Enough for a Man….but made for a woman”\n Show can be heard along
  the front range of Colorado.   Out of range??  Just listen to us on
  TuneIn Radio anywhere in the world!!\nJill Vecchio, MD\n303-550-5007\
 n\n************************\n\nUse the \"Listen\" button on the KLZ 56
 0 web site listed above for computer connection to the show.\n\n\nFor 
 more information visit http://arapahoeteaparty.ning.com/events/heart-o
 f-the-matter-new-radio-program-on-klz-560-am-7
DTSTART:20130908T220000Z
DTEND:20130909T000000Z
CATEGORIES:"radio show"
LOCATION:\"KLZ 560 AM the source radio\"
WEBSITE:http://www.560thesource.com/
URL:http://www.560thesource.com/
CONTACT:
ORGANIZER:posted by W. Branstetter
ATTACH;FMTTYPE="image/jpeg":
ATTENDEE;ROLE=REQ-PARTICIPANT;PARTSTAT=ACCEPTED;RSVP=TRUE;CN="W. Brans
 tetter":http://arapahoeteaparty.ning.com/profile/WBranstetter
END:VEVENT
END:VCALENDAR
