BEGIN:VCALENDAR
PRODID:NingEventWidget-v1
VERSION:2.0
METHOD:PUBLISH
BEGIN:VEVENT
UID:3186561:Event:47000
DTSTAMP:20210313T173216Z
SUMMARY:“Heart of the Matter” new radio program on KLZ 560 AM
DESCRIPTION:This is the third week for this radio program.  Perhaps t
 he ladies will talk about the speakers at the Western Conservative Sum
 mit besides other topics that get to the \"heart of the matter.\"\n\nJ
 ill Vecchio, Molly Vogt and Kim Monson are pleased to announce the bir
 th of A New Radio Show!!\n “Heart of the Matter”\n \nOn KLZ 560
 AM  “The Source”\nhttp://www.560thesource.com/\n Sundays 4-6pm S
 how Debuts July 14, 2013 Spend 2 hours a week getting to the “Heart
  of the issues without the rhetoric of typical talk radio!\n “Stro
 ng Enough for a Man….but made for a woman”\n Show can be heard alo
 ng the front range of Colorado.   Out of range??  Just listen to us 
 on TuneIn Radio anywhere in the world!!\nJill Vecchio, MD\n303-550-500
 7\n\n************************\n\nUse the \"Listen\" button on the KLZ 
 560 web site listed above for computer connection to the show.\n\n\nFo
 r more information visit http://arapahoeteaparty.ning.com/events/heart
 -of-the-matter-new-radio-program-on-klz-560-am-2
DTSTART:20130728T220000Z
DTEND:20130729T000000Z
CATEGORIES:"radio show"
LOCATION:\"KLZ 560 AM the source radio\"
WEBSITE:http://www.560thesource.com/
URL:http://www.560thesource.com/
CONTACT:
ORGANIZER:posted by W. Branstetter
ATTACH;FMTTYPE="image/jpeg":
ATTENDEE;ROLE=REQ-PARTICIPANT;PARTSTAT=ACCEPTED;RSVP=TRUE;CN="W. Brans
 tetter":http://arapahoeteaparty.ning.com/profile/WBranstetter
END:VEVENT
END:VCALENDAR
