BEGIN:VCALENDAR
PRODID:NingEventWidget-v1
VERSION:2.0
METHOD:PUBLISH
BEGIN:VEVENT
UID:3186561:Event:47736
DTSTAMP:20210313T172523Z
SUMMARY:“Heart of the Matter” new radio program on KLZ 560 AM
DESCRIPTION:The ladies of the \"Heart of the Matter\" are getting down
  to business weaving topics of discussion with how they fit (or not) w
 ith the Constitution.  Dr. Jill Vecchio has been addressing issues of
  \"breast cancer awareness month\" with her medical profession and kno
 wledge of the ACA (\"Obamacare\").  Tune in for the \"Americhicks\" a
 nd get to the heart of the matter.\n\nJill Vecchio, Molly Vogt and Kim
  Monson host a new program on KLZ 560 radio:\n “Heart of the Matter
 \n \nOn KLZ 560 AM  “The Source”\nhttp://www.560thesource.com
 /\n Sundays 4-6pm Show Debuted July 14, 2013 Spend 2 hours a week gett
 ing to the “Heart” of the issues without the rhetoric of typical t
 alk radio!\n “Strong Enough for a Man….but made for a woman”\n S
 how can be heard along the front range of Colorado.   Out of range??
  Just listen to us on TuneIn Radio anywhere in the world!!\nJill Vecc
 hio, MD\n303-550-5007\n\nAlso check out, but I think they said the nam
 e was changing:\nhttp://www.560chicks.com/\n\n************************
 \n\nUse the \"Listen\" button on the KLZ 560 web site listed above for
  computer connection to the show.\n\n\nFor more information visit http
 ://arapahoeteaparty.ning.com/events/heart-of-the-matter-new-radio-prog
 ram-on-klz-560-am-13
DTSTART:20131027T220000Z
DTEND:20131028T000000Z
CATEGORIES:"radio show"
LOCATION:\"KLZ 560 AM the source radio\"
WEBSITE:http://www.560thesource.com/
URL:http://www.560thesource.com/
CONTACT:
ORGANIZER:posted by W. Branstetter
ATTACH;FMTTYPE="image/jpeg":
ATTENDEE;ROLE=REQ-PARTICIPANT;PARTSTAT=ACCEPTED;RSVP=TRUE;CN="W. Brans
 tetter":http://arapahoeteaparty.ning.com/profile/WBranstetter
END:VEVENT
END:VCALENDAR
