BEGIN:VCALENDAR
PRODID:NingEventWidget-v1
VERSION:2.0
METHOD:PUBLISH
BEGIN:VEVENT
UID:3186561:Event:46871
DTSTAMP:20210313T174423Z
SUMMARY:“Heart of the Matter” new radio program on KLZ 560 AM
DESCRIPTION:\n\nJill Vecchio, Molly Vogt and Kim Monson are pleased to
  announce the birth of A New Radio Show!!\n “Heart of the Matter”
 \n \nOn KLZ 560 AM  “The Source”\nhttp://www.560thesource.com/\
 n Sundays 4-6pm Show Debuted July 14, 2013 Spend 2 hours a week gettin
 g to the “Heart” of the issues without the rhetoric of typical tal
 k radio!\n “Strong Enough for a Man….but made for a woman”\n Sho
 w can be heard along the front range of Colorado.   Out of range??  
 Just listen to us on TuneIn Radio anywhere in the world!!\nJill Vecchi
 o, MD\n303-550-5007\n\n************************\n\nUse the \"Listen\" 
 button on the KLZ 560 web site listed above for computer connection to
  the show.\n\n\nFor more information visit http://arapahoeteaparty.nin
 g.com/events/heart-of-the-matter-new-radio-program-on-klz-560-am-1
DTSTART:20130721T220000Z
DTEND:20130722T000000Z
CATEGORIES:"radio show"
LOCATION:\"KLZ 560 AM the source radio\"
WEBSITE:http://www.560thesource.com/
URL:http://www.560thesource.com/
CONTACT:
ORGANIZER:posted by W. Branstetter
ATTACH;FMTTYPE="image/jpeg":
ATTENDEE;ROLE=REQ-PARTICIPANT;PARTSTAT=ACCEPTED;RSVP=TRUE;CN="W. Brans
 tetter":http://arapahoeteaparty.ning.com/profile/WBranstetter
END:VEVENT
END:VCALENDAR
