BEGIN:VCALENDAR
PRODID:NingEventWidget-v1
VERSION:2.0
METHOD:PUBLISH
BEGIN:VEVENT
UID:3186561:Event:46632
DTSTAMP:20210313T173759Z
SUMMARY:Grassroots Radio presents Dr. Thomas Krannawitter and Declarat
 ion of Independence
DESCRIPTION:Grassroots Radio Colorado airs from 5:00 to 7:00 p.m. week
 nights with hosts Ken Clark and Jason Worley.  For this Independence 
 Day the hosts will be offering a recorded program by Dr. Thomas Kranna
 witter.  His web site is:\n \nhttp://krannawitter.com/\n \nIf you m
 iss the program or want to hear it again, it will be available for a s
 mall fee at:\n \nhttp://krannawitter.com/products/\n \nDr. Krannawit
 ter has published an article \"Our Founding Document Is As Radical Now
  As It Was In 1776\" that may be helpful to read:\n \nhttp://news.inv
 estors.com/ibd-editorials-viewpoint/070313-662492-americas-venture-in-
 self-government-produced-prosperity.htm?p=full\n \nWhen Jason and Ken
  commented about the program a few days ago, they indicated that there
  would be a regular segment by Dr. Krannawitter in subsequent weeks. 
  Please tune-in to their program for future information.\n \n \n \n
 \nFor more information visit http://arapahoeteaparty.ning.com/events/g
 rassroots-radio-presents-dr-thomas-krannawitter-and-declaration-
DTSTART:20130704T230000Z
DTEND:20130705T010000Z
CATEGORIES:"radio show"
LOCATION:Grassroots Radio on KLZ 560
WEBSITE:http://www.560thesource.com/
URL:http://www.560thesource.com/
CONTACT:
ORGANIZER:posted by W. Branstetter
ATTACH;FMTTYPE="image/jpeg":
ATTENDEE;ROLE=REQ-PARTICIPANT;PARTSTAT=ACCEPTED;RSVP=TRUE;CN="W. Brans
 tetter":http://arapahoeteaparty.ning.com/profile/WBranstetter
END:VEVENT
END:VCALENDAR
