BEGIN:VCALENDAR
PRODID:NingEventWidget-v1
VERSION:2.0
METHOD:PUBLISH
BEGIN:VEVENT
UID:3186561:Event:30274
DTSTAMP:20210313T182704Z
SUMMARY:Grassroots Radio:  Interviews Frank Gaffney, Jr. and others
DESCRIPTION:Tune in this evening for Grassroots Radio of Colorado on 5
 60 KLZ.  Kenneth Clark, Jason Worley, and Kanda Kettle Calef intervie
 w Frank Gaffney, Jr., John Guandolo, and Eli Bremmer on the controvers
 y surrounding Grover Norquist as the speaker in El Paso County this w
 eekend. \n \nShow starts at 5:00 p.m.\n \nKLZ 560 AM radio web site
 :\nhttp://www.560thesource.com/\n \n \nFind Grassroots Radio of Colo
 rado on Facebook: \nhttp://www.facebook.com/?ref=logo#!/profile.php?
 id=100002114582821\n \nFind podcasts of the Grassroots Radio programs
  at:\nhttp://grrc.podomatic.com/\n \n\nFor more information visit htt
 p://arapahoeteaparty.ning.com/events/grassroots-radio-interviews-frank
 -gaffney-jr-and-others
DTSTART:20111111T000000Z
DTEND:20111111T020000Z
CATEGORIES:radio
LOCATION:Grassroots Radio Colorado on KLZ 560 AM radio
WEBSITE:http://www.560thesource.com/
URL:http://www.560thesource.com/
CONTACT:
ORGANIZER:posted by W. Branstetter
ATTACH;FMTTYPE="image/jpeg":
ATTENDEE;ROLE=REQ-PARTICIPANT;PARTSTAT=ACCEPTED;RSVP=TRUE;CN="Randy B 
 Corporon":http://arapahoeteaparty.ning.com/profile/RandyBCorporon
ATTENDEE;ROLE=REQ-PARTICIPANT;PARTSTAT=ACCEPTED;RSVP=TRUE;CN="W. Brans
 tetter":http://arapahoeteaparty.ning.com/profile/WBranstetter
END:VEVENT
END:VCALENDAR
