BEGIN:VCALENDAR
PRODID:NingEventWidget-v1
VERSION:2.0
METHOD:PUBLISH
BEGIN:VEVENT
UID:3186561:Event:35280
DTSTAMP:20210313T182328Z
SUMMARY:Grassroots Radio Colorado with Trevor Loudon
DESCRIPTION:Trevor Loudon, featured in the documentary The Agenda and
  author of Barack Obama and The Enemies Within; plus your calls.  Mr.
  Loudon spoke to a number of people Friday evening.  He was on the sh
 ow Thursday but there were more questions.  This will be an important
  show.  Please share with your friend.\n\nFor more information visit 
 http://arapahoeteaparty.ning.com/events/grassroots-radio-colorado-with
 -trevor-loudon
DTSTART:20120319T230000Z
DTEND:20120320T010000Z
CATEGORIES:conservative, talk, radio
LOCATION:560 KLZ AM Denver, or, www.560thesource.com
WEBSITE:http://www.560thesource.com
URL:http://www.560thesource.com
CONTACT:303-477-5600, also available on your smartphone via Tunein
ORGANIZER:Randy B Corporon
ATTACH;FMTTYPE="image/jpeg":
ATTENDEE;ROLE=REQ-PARTICIPANT;PARTSTAT=ACCEPTED;RSVP=TRUE;CN="W. Brans
 tetter":http://arapahoeteaparty.ning.com/profile/WBranstetter
END:VEVENT
END:VCALENDAR
