BEGIN:VCALENDAR
PRODID:NingEventWidget-v1
VERSION:2.0
METHOD:PUBLISH
BEGIN:VEVENT
UID:3186561:Event:35415
DTSTAMP:20210313T173436Z
SUMMARY:Grassroots Radio Colorado March 25 and 26-Loveland 9/12-AFP He
 alth Care Forum
DESCRIPTION:I will be in for Jason Worley joining Kenneth Clark to
 night (Monday) and tomorrow (Tuesday) night on Grassrootsradio Colora
 do, 5-7 PM, KLZ-AM 560, The Source, and,www.560thesource.com. Tomorrow
  night, we will be broadcasting live from the Americans for Prosperity
 , Hands Off Our Healthcare Forum at the Loveland 9-12 meeting. Listen 
 to the show, call us tonight, and hope to see you tomorrow!\nRandy Cor
 poron, ATP Chairman\n\nFor more information visit http://arapahoeteapa
 rty.ning.com/events/grassroots-radio-colorado-march-25-and-26-loveland
 -9-12-afp-healt
DTSTART:20120326T230000Z
DTEND:20120328T010000Z
CATEGORIES:conservative, talk, radio
LOCATION:KLZ AM, 560 the Source, Denver, or, smartphones and computers
  around the world at www.560thesource.com
WEBSITE:
URL:
CONTACT:303-477-5600
ORGANIZER;CN="Randy B Corporon":http://arapahoeteaparty.ning.com/profi
 le/RandyBCorporon
ATTACH;FMTTYPE="image/jpeg":
ATTENDEE;ROLE=REQ-PARTICIPANT;PARTSTAT=ACCEPTED;RSVP=TRUE;CN="Randy B 
 Corporon":http://arapahoeteaparty.ning.com/profile/RandyBCorporon
END:VEVENT
END:VCALENDAR
