BEGIN:VCALENDAR
PRODID:NingEventWidget-v1
VERSION:2.0
METHOD:PUBLISH
BEGIN:VEVENT
UID:3186561:Event:14967
DTSTAMP:20210313T174301Z
SUMMARY:GOP presidential debate
DESCRIPTION:Pawlenty, Gingrich, Santorum, Roemer, Paul are on the list
  now.  Romney has not made a commitment.  I suspect others might joi
 n, the deadline for proof is May 3rd.  (I would secretly like to see 
 Palin and Trump in this. This would be a great reality-your fired show
 . Saturday Night Live would have a great source for comedy skits.) \n
 The debate is being held in South Carolina at 7:00, I suspect we will 
 see it at 5:00 mountain standard time. \nFOX news is the the host.\n\
 nFor more information visit http://arapahoeteaparty.ning.com/events/go
 p-presidential-debate
DTSTART:20110505T230000Z
DTEND:20110506T000000Z
CATEGORIES:debate
LOCATION:television, radio, internet
WEBSITE:
URL:
CONTACT:
ORGANIZER;CN=reform:http://arapahoeteaparty.ning.com/profile/reform
ATTACH;FMTTYPE="image/jpeg":
ATTENDEE;ROLE=REQ-PARTICIPANT;PARTSTAT=ACCEPTED;RSVP=TRUE;CN="W. Brans
 tetter":http://arapahoeteaparty.ning.com/profile/WBranstetter
ATTENDEE;ROLE=REQ-PARTICIPANT;PARTSTAT=ACCEPTED;RSVP=TRUE;CN="Chairman
 's Committee":http://arapahoeteaparty.ning.com/profile/chairmanscommit
 tee
ATTENDEE;ROLE=REQ-PARTICIPANT;PARTSTAT=ACCEPTED;RSVP=TRUE;CN=reform:ht
 tp://arapahoeteaparty.ning.com/profile/reform
END:VEVENT
END:VCALENDAR
