BEGIN:VCALENDAR
PRODID:NingEventWidget-v1
VERSION:2.0
METHOD:PUBLISH
BEGIN:VEVENT
UID:3186561:Event:3767
DTSTAMP:20210313T171633Z
SUMMARY:God Bless America Song & Prayer Fest
DESCRIPTION:Please join us for a traditional American \"kick-off\" to 
 Thanksgiving week. Sing patriotic songs together as well as give thank
 s for our blessings and ask for divine guidance/support to help us pro
 tect our freedom and the United States of America. We also will be col
 lecting cards/letters to Senators Bennet and Udall regarding healthcar
 e and energy legislation. All Faiths and Ages Welcome.\n\n************
 *************************************\n\nAll 9.12, Tea Party & like-mi
 nded group are welcome to set up an information booth table as we did 
 for Sept. 12th rally along the circle drive on the west side of the bu
 ilding. We should be able to accommodate parking for those of you who 
 are bringing the tables or booths on the east side. Please arrive by N
 oon to unload and set up.\n\nPlease have letters or post cards to Sens
 . Bennet & Udall for people to sign regarding Healthcare & Climate Cha
 nge (aka Cap & Trade) legislation. We will fax them to their DC office
 s and then deliver them during the week of 11/30 as our members bring 
 other letters to their offices around the state.\n\nI'm bringing song 
 word sheets for the crowd. Does anyone know a Rabbi who would be willi
 ng to give one of the prayers? If so, please give him my contact info.
  Does anyone have a bullhorn I could borrow?\n\nPlease let me know if 
 you have any questions. Thank you for posting this information to your
  groups\n\nFor more information visit http://arapahoeteaparty.ning.com
 /events/god-bless-america-song-prayer
DTSTART:20091121T200000Z
DTEND:20091121T220000Z
CATEGORIES:rally
LOCATION:West Steps of the Capitol
WEBSITE:
URL:
CONTACT:
ORGANIZER:Lu, from the Front Range 9/12
ATTACH;FMTTYPE="image/jpeg":
ATTENDEE;ROLE=REQ-PARTICIPANT;PARTSTAT=ACCEPTED;RSVP=TRUE;CN="Theresa 
 Collins":http://arapahoeteaparty.ning.com/profile/TheresaCollins
ATTENDEE;ROLE=REQ-PARTICIPANT;PARTSTAT=ACCEPTED;RSVP=TRUE;CN="Chairman
 's Committee":http://arapahoeteaparty.ning.com/profile/chairmanscommit
 tee
END:VEVENT
END:VCALENDAR
